BEGIN:VCALENDAR
VERSION:2.0
PRODID:-//Barnt Green Parish Council - ECPv6.15.18//NONSGML v1.0//EN
CALSCALE:GREGORIAN
METHOD:PUBLISH
X-ORIGINAL-URL:https://www.barntgreenparishcouncil.gov.uk
X-WR-CALDESC:Events for Barnt Green Parish Council
REFRESH-INTERVAL;VALUE=DURATION:PT1H
X-Robots-Tag:noindex
X-PUBLISHED-TTL:PT1H
BEGIN:VTIMEZONE
TZID:Europe/London
BEGIN:DAYLIGHT
TZOFFSETFROM:+0000
TZOFFSETTO:+0100
TZNAME:BST
DTSTART:20220327T010000
END:DAYLIGHT
BEGIN:STANDARD
TZOFFSETFROM:+0100
TZOFFSETTO:+0000
TZNAME:GMT
DTSTART:20221030T010000
END:STANDARD
BEGIN:DAYLIGHT
TZOFFSETFROM:+0000
TZOFFSETTO:+0100
TZNAME:BST
DTSTART:20230326T010000
END:DAYLIGHT
BEGIN:STANDARD
TZOFFSETFROM:+0100
TZOFFSETTO:+0000
TZNAME:GMT
DTSTART:20231029T010000
END:STANDARD
BEGIN:DAYLIGHT
TZOFFSETFROM:+0000
TZOFFSETTO:+0100
TZNAME:BST
DTSTART:20240331T010000
END:DAYLIGHT
BEGIN:STANDARD
TZOFFSETFROM:+0100
TZOFFSETTO:+0000
TZNAME:GMT
DTSTART:20241027T010000
END:STANDARD
END:VTIMEZONE
BEGIN:VEVENT
DTSTART;TZID=Europe/London:20230201T120000
DTEND;TZID=Europe/London:20230201T140000
DTSTAMP:20260423T221527
CREATED:20221213T114808Z
LAST-MODIFIED:20221213T114808Z
UID:6071-1675252800-1675260000@www.barntgreenparishcouncil.gov.uk
SUMMARY:Warm Space at Barnt Green Baptist Church Bittell Road 12pm - 2pm
DESCRIPTION:Warm Space at Barnt Green Baptist Church Bittell Road 12pm – 2pm
URL:https://www.barntgreenparishcouncil.gov.uk/event/warm-space-at-barnt-green-baptist-church-bittell-road-12pm-2pm-5
END:VEVENT
BEGIN:VEVENT
DTSTART;TZID=Europe/London:20230202T140000
DTEND;TZID=Europe/London:20230202T160000
DTSTAMP:20260423T221527
CREATED:20221213T115438Z
LAST-MODIFIED:20221213T115438Z
UID:6087-1675346400-1675353600@www.barntgreenparishcouncil.gov.uk
SUMMARY:Warm Space at Barnt Green Quakers Friends Meeting House\, Sandhills Road\, 2pm - 4pm
DESCRIPTION:Warm Space at Barnt Green Quakers Friends Meeting House\, Sandhills Road\, 2pm – 4pm
URL:https://www.barntgreenparishcouncil.gov.uk/event/warm-space-at-barnt-green-quakers-friends-meeting-house-sandhills-road-2pm-4pm-4
END:VEVENT
BEGIN:VEVENT
DTSTART;TZID=Europe/London:20230203T100000
DTEND;TZID=Europe/London:20230203T123000
DTSTAMP:20260423T221527
CREATED:20221213T120044Z
LAST-MODIFIED:20221213T120044Z
UID:6105-1675418400-1675427400@www.barntgreenparishcouncil.gov.uk
SUMMARY:Warm Space at Barnt Green St Andrews Parish Centre\, Sandhills Road\, 10am - 12.30pm
DESCRIPTION:Warm Space at Barnt Green St Andrews Parish Centre\, Sandhills Road\, 10am – 12.30pm
URL:https://www.barntgreenparishcouncil.gov.uk/event/warm-space-at-barnt-green-st-andrews-parish-centre-sandhills-road-10am-12-30pm-5
END:VEVENT
BEGIN:VEVENT
DTSTART;TZID=Europe/London:20230208T120000
DTEND;TZID=Europe/London:20230208T140000
DTSTAMP:20260423T221527
CREATED:20221213T114844Z
LAST-MODIFIED:20221213T114844Z
UID:6073-1675857600-1675864800@www.barntgreenparishcouncil.gov.uk
SUMMARY:Warm Space at Barnt Green Baptist Church Bittell Road 12pm - 2pm
DESCRIPTION:Warm Space at Barnt Green Baptist Church Bittell Road 12pm – 2pm
URL:https://www.barntgreenparishcouncil.gov.uk/event/warm-space-at-barnt-green-baptist-church-bittell-road-12pm-2pm-6
END:VEVENT
BEGIN:VEVENT
DTSTART;TZID=Europe/London:20230209T140000
DTEND;TZID=Europe/London:20230209T160000
DTSTAMP:20260423T221527
CREATED:20221213T115512Z
LAST-MODIFIED:20221213T115512Z
UID:6089-1675951200-1675958400@www.barntgreenparishcouncil.gov.uk
SUMMARY:Warm Space at Barnt Green Quakers Friends Meeting House\, Sandhills Road\, 2pm - 4pm
DESCRIPTION:Warm Space at Barnt Green Quakers Friends Meeting House\, Sandhills Road\, 2pm – 4pm
URL:https://www.barntgreenparishcouncil.gov.uk/event/warm-space-at-barnt-green-quakers-friends-meeting-house-sandhills-road-2pm-4pm-5
END:VEVENT
BEGIN:VEVENT
DTSTART;TZID=Europe/London:20230210T100000
DTEND;TZID=Europe/London:20230210T123000
DTSTAMP:20260423T221527
CREATED:20221213T120117Z
LAST-MODIFIED:20221213T120117Z
UID:6107-1676023200-1676032200@www.barntgreenparishcouncil.gov.uk
SUMMARY:Warm Space at Barnt Green St Andrews Parish Centre\, Sandhills Road\, 10am - 12.30pm
DESCRIPTION:Warm Space at Barnt Green St Andrews Parish Centre\, Sandhills Road\, 10am – 12.30pm
URL:https://www.barntgreenparishcouncil.gov.uk/event/warm-space-at-barnt-green-st-andrews-parish-centre-sandhills-road-10am-12-30pm-6
END:VEVENT
BEGIN:VEVENT
DTSTART;TZID=Europe/London:20230215T120000
DTEND;TZID=Europe/London:20230215T140000
DTSTAMP:20260423T221527
CREATED:20221213T114918Z
LAST-MODIFIED:20221213T114918Z
UID:6075-1676462400-1676469600@www.barntgreenparishcouncil.gov.uk
SUMMARY:Warm Space at Barnt Green Baptist Church Bittell Road 12pm - 2pm
DESCRIPTION:Warm Space at Barnt Green Baptist Church Bittell Road 12pm – 2pm
URL:https://www.barntgreenparishcouncil.gov.uk/event/warm-space-at-barnt-green-baptist-church-bittell-road-12pm-2pm-7
END:VEVENT
BEGIN:VEVENT
DTSTART;TZID=Europe/London:20230216T140000
DTEND;TZID=Europe/London:20230216T160000
DTSTAMP:20260423T221527
CREATED:20221213T115540Z
LAST-MODIFIED:20221213T115540Z
UID:6091-1676556000-1676563200@www.barntgreenparishcouncil.gov.uk
SUMMARY:Warm Space at Barnt Green Quakers Friends Meeting House\, Sandhills Road\, 2pm - 4pm
DESCRIPTION:Warm Space at Barnt Green Quakers Friends Meeting House\, Sandhills Road\, 2pm – 4pm
URL:https://www.barntgreenparishcouncil.gov.uk/event/warm-space-at-barnt-green-quakers-friends-meeting-house-sandhills-road-2pm-4pm-6
END:VEVENT
BEGIN:VEVENT
DTSTART;TZID=Europe/London:20230217T100000
DTEND;TZID=Europe/London:20230217T123000
DTSTAMP:20260423T221527
CREATED:20221213T120142Z
LAST-MODIFIED:20221213T120142Z
UID:6109-1676628000-1676637000@www.barntgreenparishcouncil.gov.uk
SUMMARY:Warm Space at Barnt Green St Andrews Parish Centre\, Sandhills Road\, 10am - 12.30pm
DESCRIPTION:Warm Space at Barnt Green St Andrews Parish Centre\, Sandhills Road\, 10am – 12.30pm
URL:https://www.barntgreenparishcouncil.gov.uk/event/warm-space-at-barnt-green-st-andrews-parish-centre-sandhills-road-10am-12-30pm-7
END:VEVENT
BEGIN:VEVENT
DTSTART;TZID=Europe/London:20230220T190000
DTEND;TZID=Europe/London:20230220T210000
DTSTAMP:20260423T221527
CREATED:20220615T135552Z
LAST-MODIFIED:20220615T135552Z
UID:5640-1676919600-1676926800@www.barntgreenparishcouncil.gov.uk
SUMMARY:Parish Council Meeting
DESCRIPTION:
URL:https://www.barntgreenparishcouncil.gov.uk/event/parish-council-meeting-31
END:VEVENT
BEGIN:VEVENT
DTSTART;TZID=Europe/London:20230222T120000
DTEND;TZID=Europe/London:20230222T140000
DTSTAMP:20260423T221527
CREATED:20221213T120835Z
LAST-MODIFIED:20221213T120835Z
UID:6116-1677067200-1677074400@www.barntgreenparishcouncil.gov.uk
SUMMARY:Warm Space at Barnt Green Baptist Church\, Bittell Road\, 12pm - 2pm
DESCRIPTION:Warm Space at Barnt Green Baptist Church\, Bittell Road\, 12pm – 2pm
URL:https://www.barntgreenparishcouncil.gov.uk/event/warm-space-at-barnt-green-baptist-church-bittell-road-12pm-2pm-9
END:VEVENT
BEGIN:VEVENT
DTSTART;TZID=Europe/London:20230223T140000
DTEND;TZID=Europe/London:20230223T160000
DTSTAMP:20260423T221527
CREATED:20221213T120703Z
LAST-MODIFIED:20221213T120703Z
UID:6114-1677160800-1677168000@www.barntgreenparishcouncil.gov.uk
SUMMARY:Warm Space at Barnt Green Quakers Friends Meeting House\, Sandhills Road\, 2pm - 4pm
DESCRIPTION:Warm Space at Barnt Green Quakers Friends Meeting House\, Sandhills Road\, 2pm – 4pm
URL:https://www.barntgreenparishcouncil.gov.uk/event/warm-space-at-barnt-green-quakers-friends-meeting-house-sandhills-road-2pm-4pm-8
END:VEVENT
BEGIN:VEVENT
DTSTART;TZID=Europe/London:20230224T100000
DTEND;TZID=Europe/London:20230224T123000
DTSTAMP:20260423T221527
CREATED:20221213T120222Z
LAST-MODIFIED:20221213T120222Z
UID:6111-1677232800-1677241800@www.barntgreenparishcouncil.gov.uk
SUMMARY:Warm Space at Barnt Green St Andrews Parish Centre\, Sandhills Road\, 10am - 12.30pm
DESCRIPTION:Warm Space at Barnt Green St Andrews Parish Centre\, Sandhills Road\, 10am – 12.30pm
URL:https://www.barntgreenparishcouncil.gov.uk/event/warm-space-at-barnt-green-st-andrews-parish-centre-sandhills-road-10am-12-30pm-8
END:VEVENT
END:VCALENDAR