BEGIN:VCALENDAR
VERSION:2.0
PRODID:-//Barnt Green Parish Council - ECPv6.15.18//NONSGML v1.0//EN
CALSCALE:GREGORIAN
METHOD:PUBLISH
X-ORIGINAL-URL:https://www.barntgreenparishcouncil.gov.uk
X-WR-CALDESC:Events for Barnt Green Parish Council
REFRESH-INTERVAL;VALUE=DURATION:PT1H
X-Robots-Tag:noindex
X-PUBLISHED-TTL:PT1H
BEGIN:VTIMEZONE
TZID:Europe/London
BEGIN:DAYLIGHT
TZOFFSETFROM:+0000
TZOFFSETTO:+0100
TZNAME:BST
DTSTART:20220327T010000
END:DAYLIGHT
BEGIN:STANDARD
TZOFFSETFROM:+0100
TZOFFSETTO:+0000
TZNAME:GMT
DTSTART:20221030T010000
END:STANDARD
BEGIN:DAYLIGHT
TZOFFSETFROM:+0000
TZOFFSETTO:+0100
TZNAME:BST
DTSTART:20230326T010000
END:DAYLIGHT
BEGIN:STANDARD
TZOFFSETFROM:+0100
TZOFFSETTO:+0000
TZNAME:GMT
DTSTART:20231029T010000
END:STANDARD
BEGIN:DAYLIGHT
TZOFFSETFROM:+0000
TZOFFSETTO:+0100
TZNAME:BST
DTSTART:20240331T010000
END:DAYLIGHT
BEGIN:STANDARD
TZOFFSETFROM:+0100
TZOFFSETTO:+0000
TZNAME:GMT
DTSTART:20241027T010000
END:STANDARD
END:VTIMEZONE
BEGIN:VEVENT
DTSTART;TZID=Europe/London:20230104T120000
DTEND;TZID=Europe/London:20230104T140000
DTSTAMP:20260423T235924
CREATED:20221213T114251Z
LAST-MODIFIED:20221213T114546Z
UID:6063-1672833600-1672840800@www.barntgreenparishcouncil.gov.uk
SUMMARY:Warm Space at Barnt Green Baptist Church Bittell Road 12pm - 2pm
DESCRIPTION:Warm Space at Barnt Green Baptist Church Bittell Road 12pm – 2pm
URL:https://www.barntgreenparishcouncil.gov.uk/event/warm-space-at-barnt-green-baptist-church-bittell-road-12pm-2pm
END:VEVENT
BEGIN:VEVENT
DTSTART;TZID=Europe/London:20230105T140000
DTEND;TZID=Europe/London:20230105T160000
DTSTAMP:20260423T235924
CREATED:20221213T114955Z
LAST-MODIFIED:20221213T115217Z
UID:6077-1672927200-1672934400@www.barntgreenparishcouncil.gov.uk
SUMMARY:Warm Space at Barnt Green Quakers Friends Meeting House\, Sandhills Road\, 2pm - 4pm
DESCRIPTION:Warm Space at Barnt Green Quakers Friends Meeting House\, Sandhills Road\, 2pm – 4pm
URL:https://www.barntgreenparishcouncil.gov.uk/event/warm-space-at-barnt-green-baptist-church-bittell-road-12pm-2pm-8
END:VEVENT
BEGIN:VEVENT
DTSTART;TZID=Europe/London:20230106T100000
DTEND;TZID=Europe/London:20230106T123000
DTSTAMP:20260423T235924
CREATED:20221213T115608Z
LAST-MODIFIED:20221213T115810Z
UID:6093-1672999200-1673008200@www.barntgreenparishcouncil.gov.uk
SUMMARY:Warm Space at Barnt Green St Andrews Parish Centre\, Sandhills Road\, 10am - 12.30pm
DESCRIPTION:Warm Space at Barnt Green St Andrews Parish Centre\, Sandhills Road\, 10am – 12.30pm
URL:https://www.barntgreenparishcouncil.gov.uk/event/warm-space-at-barnt-green-quakers-friends-meeting-house-sandhills-road-2pm-4pm-7
END:VEVENT
BEGIN:VEVENT
DTSTART;TZID=Europe/London:20230111T120000
DTEND;TZID=Europe/London:20230111T140000
DTSTAMP:20260423T235924
CREATED:20221213T114634Z
LAST-MODIFIED:20221213T114634Z
UID:6065-1673438400-1673445600@www.barntgreenparishcouncil.gov.uk
SUMMARY:Warm Space at Barnt Green Baptist Church Bittell Road 12pm - 2pm
DESCRIPTION:Warm Space at Barnt Green Baptist Church Bittell Road 12pm – 2pm
URL:https://www.barntgreenparishcouncil.gov.uk/event/warm-space-at-barnt-green-baptist-church-bittell-road-12pm-2pm-2
END:VEVENT
BEGIN:VEVENT
DTSTART;TZID=Europe/London:20230112T140000
DTEND;TZID=Europe/London:20230112T160000
DTSTAMP:20260423T235924
CREATED:20221213T115302Z
LAST-MODIFIED:20221213T115302Z
UID:6081-1673532000-1673539200@www.barntgreenparishcouncil.gov.uk
SUMMARY:Warm Space at Barnt Green Quakers Friends Meeting House\, Sandhills Road\, 2pm - 4pm
DESCRIPTION:Warm Space at Barnt Green Quakers Friends Meeting House\, Sandhills Road\, 2pm – 4pm
URL:https://www.barntgreenparishcouncil.gov.uk/event/warm-space-at-barnt-green-quakers-friends-meeting-house-sandhills-road-2pm-4pm
END:VEVENT
BEGIN:VEVENT
DTSTART;TZID=Europe/London:20230113T100000
DTEND;TZID=Europe/London:20230113T123000
DTSTAMP:20260423T235924
CREATED:20221213T115919Z
LAST-MODIFIED:20221213T115919Z
UID:6099-1673604000-1673613000@www.barntgreenparishcouncil.gov.uk
SUMMARY:Warm Space at Barnt Green St Andrews Parish Centre\, Sandhills Road\, 10am - 12.30pm
DESCRIPTION:Warm Space at Barnt Green St Andrews Parish Centre\, Sandhills Road\, 10am – 12.30pm
URL:https://www.barntgreenparishcouncil.gov.uk/event/warm-space-at-barnt-green-st-andrews-parish-centre-sandhills-road-10am-12-30pm-2
END:VEVENT
BEGIN:VEVENT
DTSTART;TZID=Europe/London:20230116T190000
DTEND;TZID=Europe/London:20230116T210000
DTSTAMP:20260423T235924
CREATED:20220615T135504Z
LAST-MODIFIED:20220615T135504Z
UID:5638-1673895600-1673902800@www.barntgreenparishcouncil.gov.uk
SUMMARY:Parish Council Meeting
DESCRIPTION:
URL:https://www.barntgreenparishcouncil.gov.uk/event/parish-council-meeting-30
END:VEVENT
BEGIN:VEVENT
DTSTART;TZID=Europe/London:20230118T120000
DTEND;TZID=Europe/London:20230118T140000
DTSTAMP:20260423T235924
CREATED:20221213T114705Z
LAST-MODIFIED:20221213T114705Z
UID:6067-1674043200-1674050400@www.barntgreenparishcouncil.gov.uk
SUMMARY:Warm Space at Barnt Green Baptist Church Bittell Road 12pm - 2pm
DESCRIPTION:Warm Space at Barnt Green Baptist Church Bittell Road 12pm – 2pm
URL:https://www.barntgreenparishcouncil.gov.uk/event/warm-space-at-barnt-green-baptist-church-bittell-road-12pm-2pm-3
END:VEVENT
BEGIN:VEVENT
DTSTART;TZID=Europe/London:20230119T140000
DTEND;TZID=Europe/London:20230119T160000
DTSTAMP:20260423T235924
CREATED:20221213T115333Z
LAST-MODIFIED:20221213T115333Z
UID:6083-1674136800-1674144000@www.barntgreenparishcouncil.gov.uk
SUMMARY:Warm Space at Barnt Green Quakers Friends Meeting House\, Sandhills Road\, 2pm - 4pm
DESCRIPTION:Warm Space at Barnt Green Quakers Friends Meeting House\, Sandhills Road\, 2pm – 4pm
URL:https://www.barntgreenparishcouncil.gov.uk/event/warm-space-at-barnt-green-quakers-friends-meeting-house-sandhills-road-2pm-4pm-2
END:VEVENT
BEGIN:VEVENT
DTSTART;TZID=Europe/London:20230120T100000
DTEND;TZID=Europe/London:20230120T123000
DTSTAMP:20260423T235924
CREATED:20221213T115950Z
LAST-MODIFIED:20221213T115950Z
UID:6101-1674208800-1674217800@www.barntgreenparishcouncil.gov.uk
SUMMARY:Warm Space at Barnt Green St Andrews Parish Centre\, Sandhills Road\, 10am - 12.30pm
DESCRIPTION:Warm Space at Barnt Green St Andrews Parish Centre\, Sandhills Road\, 10am – 12.30pm
URL:https://www.barntgreenparishcouncil.gov.uk/event/warm-space-at-barnt-green-st-andrews-parish-centre-sandhills-road-10am-12-30pm-3
END:VEVENT
BEGIN:VEVENT
DTSTART;TZID=Europe/London:20230125T120000
DTEND;TZID=Europe/London:20230125T140000
DTSTAMP:20260423T235924
CREATED:20221213T114738Z
LAST-MODIFIED:20221213T114738Z
UID:6069-1674648000-1674655200@www.barntgreenparishcouncil.gov.uk
SUMMARY:Warm Space at Barnt Green Baptist Church Bittell Road 12pm - 2pm
DESCRIPTION:Warm Space at Barnt Green Baptist Church Bittell Road 12pm – 2pm
URL:https://www.barntgreenparishcouncil.gov.uk/event/warm-space-at-barnt-green-baptist-church-bittell-road-12pm-2pm-4
END:VEVENT
BEGIN:VEVENT
DTSTART;TZID=Europe/London:20230126T140000
DTEND;TZID=Europe/London:20230126T160000
DTSTAMP:20260423T235924
CREATED:20221213T115407Z
LAST-MODIFIED:20221213T115407Z
UID:6085-1674741600-1674748800@www.barntgreenparishcouncil.gov.uk
SUMMARY:Warm Space at Barnt Green Quakers Friends Meeting House\, Sandhills Road\, 2pm - 4pm
DESCRIPTION:Warm Space at Barnt Green Quakers Friends Meeting House\, Sandhills Road\, 2pm – 4pm
URL:https://www.barntgreenparishcouncil.gov.uk/event/warm-space-at-barnt-green-quakers-friends-meeting-house-sandhills-road-2pm-4pm-3
END:VEVENT
BEGIN:VEVENT
DTSTART;TZID=Europe/London:20230127T100000
DTEND;TZID=Europe/London:20230127T123000
DTSTAMP:20260423T235924
CREATED:20221213T120020Z
LAST-MODIFIED:20221213T120020Z
UID:6103-1674813600-1674822600@www.barntgreenparishcouncil.gov.uk
SUMMARY:Warm Space at Barnt Green St Andrews Parish Centre\, Sandhills Road\, 10am - 12.30pm
DESCRIPTION:Warm Space at Barnt Green St Andrews Parish Centre\, Sandhills Road\, 10am – 12.30pm
URL:https://www.barntgreenparishcouncil.gov.uk/event/warm-space-at-barnt-green-st-andrews-parish-centre-sandhills-road-10am-12-30pm-4
END:VEVENT
END:VCALENDAR