BEGIN:VCALENDAR
VERSION:2.0
PRODID:-//Barnt Green Parish Council - ECPv6.15.18//NONSGML v1.0//EN
CALSCALE:GREGORIAN
METHOD:PUBLISH
X-WR-CALNAME:Barnt Green Parish Council
X-ORIGINAL-URL:https://www.barntgreenparishcouncil.gov.uk
X-WR-CALDESC:Events for Barnt Green Parish Council
REFRESH-INTERVAL;VALUE=DURATION:PT1H
X-Robots-Tag:noindex
X-PUBLISHED-TTL:PT1H
BEGIN:VTIMEZONE
TZID:UTC
BEGIN:STANDARD
TZOFFSETFROM:+0000
TZOFFSETTO:+0000
TZNAME:UTC
DTSTART:20210101T000000
END:STANDARD
END:VTIMEZONE
BEGIN:VEVENT
DTSTART;TZID=UTC:20220620T190000
DTEND;TZID=UTC:20220620T190000
DTSTAMP:20260424T104317
CREATED:20220329T085141Z
LAST-MODIFIED:20220329T085141Z
UID:5483-1655751600-1655751600@www.barntgreenparishcouncil.gov.uk
SUMMARY:Parish Council Meeting
DESCRIPTION:PARISH COUNCIL MEETINGS ARE HELD ON THE THIRD MONDAY EVERY MONTH. THE COUNCIL HOLD MEETINGS IN LARGER VENUES DEPENDENT ON AVAILABILTY. PLEASE REFER TO THE AGENDA PUBLISHED TO BE ADVISED OF LOCATION AS THESE MAY CHANGE FROM MEETING TO MEETING.
URL:https://www.barntgreenparishcouncil.gov.uk/event/parish-council-meeting-18
END:VEVENT
END:VCALENDAR