BEGIN:VCALENDAR
VERSION:2.0
PRODID:-//Barnt Green Parish Council - ECPv6.15.18//NONSGML v1.0//EN
CALSCALE:GREGORIAN
METHOD:PUBLISH
X-WR-CALNAME:Barnt Green Parish Council
X-ORIGINAL-URL:https://www.barntgreenparishcouncil.gov.uk
X-WR-CALDESC:Events for Barnt Green Parish Council
REFRESH-INTERVAL;VALUE=DURATION:PT1H
X-Robots-Tag:noindex
X-PUBLISHED-TTL:PT1H
BEGIN:VTIMEZONE
TZID:UTC
BEGIN:STANDARD
TZOFFSETFROM:+0000
TZOFFSETTO:+0000
TZNAME:UTC
DTSTART:20170101T000000
END:STANDARD
END:VTIMEZONE
BEGIN:VEVENT
DTSTART;TZID=UTC:20200920T100000
DTEND;TZID=UTC:20200920T123000
DTSTAMP:20260420T085506
CREATED:20200915T083828Z
LAST-MODIFIED:20200915T083828Z
UID:4198-1600596000-1600605000@www.barntgreenparishcouncil.gov.uk
SUMMARY:Plant Sale - Cofton Hackett Sunday 20 September 2020
DESCRIPTION:
URL:https://www.barntgreenparishcouncil.gov.uk/event/plant-sale-cofton-hackett-sunday-20-september-2020
END:VEVENT
BEGIN:VEVENT
DTSTART;TZID=UTC:20200810T110000
DTEND;TZID=UTC:20200810T123000
DTSTAMP:20260420T085506
CREATED:20200804T110149Z
LAST-MODIFIED:20200804T110552Z
UID:4140-1597057200-1597062600@www.barntgreenparishcouncil.gov.uk
SUMMARY:Online Parish Council Meeting
DESCRIPTION:ALL EVENTS ARE CANCELLED UNTIL FURTHER NOTICE. PARISH COUNCIL MEETINGS WILL CONTINUE IN AN ONLINE FORMAT AND WILL BE PUBLICISED 3 WORKING DAYS PRIOR TO THE MEETING BEING HELD. Please check our social media page for updated information and Government guidance on Covid-19
URL:https://www.barntgreenparishcouncil.gov.uk/event/online-parish-council-meeting-2
LOCATION:Online
CATEGORIES:Parish Council Meetings
END:VEVENT
BEGIN:VEVENT
DTSTART;TZID=UTC:20200808T103000
DTEND;TZID=UTC:20200808T150000
DTSTAMP:20260420T085506
CREATED:20200805T122006Z
LAST-MODIFIED:20200805T122006Z
UID:4143-1596882600-1596898800@www.barntgreenparishcouncil.gov.uk
SUMMARY:Plant Sale Saturday 8 August 2020 10.30am - 3.00pm - 34 Reservoir Road\, Cofton Hackett
DESCRIPTION:
URL:https://www.barntgreenparishcouncil.gov.uk/event/plant-sale-saturday-8-august-2020-10-30am-3-00pm-34-reservoir-road-cofton-hackett
END:VEVENT
BEGIN:VEVENT
DTSTART;TZID=UTC:20200518T190000
DTEND;TZID=UTC:20200518T190000
DTSTAMP:20260420T085506
CREATED:20190603T121532Z
LAST-MODIFIED:20190603T121532Z
UID:3725-1589828400-1589828400@www.barntgreenparishcouncil.gov.uk
SUMMARY:Annual Meeting of the Parish Council
DESCRIPTION:Starting July 2018\, the parish council’s meetings will be held at Barnt Green Baptist Church Hall\, Bittell Road B45 8LU unless otherwise stated. Members of the public are welcome to attend. Agendas will be posted to this website and to the parish council’s notice boards.
URL:https://www.barntgreenparishcouncil.gov.uk/event/annual-meeting-of-the-parish-council-2
CATEGORIES:Parish Council Meetings
END:VEVENT
BEGIN:VEVENT
DTSTART;TZID=UTC:20200429T190000
DTEND;TZID=UTC:20200429T190000
DTSTAMP:20260420T085506
CREATED:20190603T121558Z
LAST-MODIFIED:20190603T121558Z
UID:3726-1588186800-1588186800@www.barntgreenparishcouncil.gov.uk
SUMMARY:Barnt Green Parish Annual Assembly
DESCRIPTION:Starting July 2018\, the parish council’s meetings will be held at Barnt Green Baptist Church Hall\, Bittell Road B45 8LU unless otherwise stated. Members of the public are welcome to attend. Agendas will be posted to this website and to the parish council’s notice boards.
URL:https://www.barntgreenparishcouncil.gov.uk/event/barnt-green-parish-annual-assembly
CATEGORIES:Parish Council Meetings
END:VEVENT
BEGIN:VEVENT
DTSTART;TZID=UTC:20200420T190000
DTEND;TZID=UTC:20200420T190000
DTSTAMP:20260420T085506
CREATED:20190603T121507Z
LAST-MODIFIED:20190603T121507Z
UID:3724-1587409200-1587409200@www.barntgreenparishcouncil.gov.uk
SUMMARY:Ordinary Parish Council
DESCRIPTION:Starting July 2018\, the parish council’s meetings will be held at Barnt Green Baptist Church Hall\, Bittell Road B45 8LU unless otherwise stated. Members of the public are welcome to attend. Agendas will be posted to this website and to the parish council’s notice boards.
URL:https://www.barntgreenparishcouncil.gov.uk/event/ordinary-parish-council-17
CATEGORIES:Parish Council Meetings
END:VEVENT
BEGIN:VEVENT
DTSTART;TZID=UTC:20200316T190000
DTEND;TZID=UTC:20200316T190000
DTSTAMP:20260420T085506
CREATED:20190603T121438Z
LAST-MODIFIED:20190603T121438Z
UID:3723-1584385200-1584385200@www.barntgreenparishcouncil.gov.uk
SUMMARY:Ordinary Parish Council
DESCRIPTION:Starting July 2018\, the parish council’s meetings will be held at Barnt Green Baptist Church Hall\, Bittell Road B45 8LU unless otherwise stated. Members of the public are welcome to attend. Agendas will be posted to this website and to the parish council’s notice boards.
URL:https://www.barntgreenparishcouncil.gov.uk/event/ordinary-parish-council-16
CATEGORIES:Parish Council Meetings
END:VEVENT
BEGIN:VEVENT
DTSTART;TZID=UTC:20200301T140000
DTEND;TZID=UTC:20200301T170000
DTSTAMP:20260420T085506
CREATED:20200217T184532Z
LAST-MODIFIED:20200217T184532Z
UID:3983-1583071200-1583082000@www.barntgreenparishcouncil.gov.uk
SUMMARY:St Michaels Churchyard History and Biodiversity Open afternoon
DESCRIPTION:
URL:https://www.barntgreenparishcouncil.gov.uk/event/st-michaels-churchyard-history-and-biodiversity-open-afternoon
LOCATION:St Michaels Church
END:VEVENT
BEGIN:VEVENT
DTSTART;TZID=UTC:20200217T190000
DTEND;TZID=UTC:20200217T190000
DTSTAMP:20260420T085506
CREATED:20190603T120027Z
LAST-MODIFIED:20190603T120027Z
UID:3722-1581966000-1581966000@www.barntgreenparishcouncil.gov.uk
SUMMARY:Ordinary Parish Council
DESCRIPTION:Starting July 2018\, the parish council’s meetings will be held at Barnt Green Baptist Church Hall\, Bittell Road B45 8LU unless otherwise stated. Members of the public are welcome to attend. Agendas will be posted to this website and to the parish council’s notice boards.
URL:https://www.barntgreenparishcouncil.gov.uk/event/ordinary-parish-council-15
CATEGORIES:Parish Council Meetings
END:VEVENT
BEGIN:VEVENT
DTSTART;TZID=UTC:20200210T080000
DTEND;TZID=UTC:20200210T170000
DTSTAMP:20260420T085506
CREATED:20200210T131641Z
LAST-MODIFIED:20200210T131641Z
UID:3974-1581321600-1581354000@www.barntgreenparishcouncil.gov.uk
SUMMARY:Road Closure - Barnt Green  - Bromsgrove District  - 802623
DESCRIPTION:
URL:https://www.barntgreenparishcouncil.gov.uk/event/road-closure-barnt-green-bromsgrove-district-802623
END:VEVENT
BEGIN:VEVENT
DTSTART;TZID=UTC:20200120T190000
DTEND;TZID=UTC:20200120T190000
DTSTAMP:20260420T085506
CREATED:20190603T115924Z
LAST-MODIFIED:20190603T115924Z
UID:3721-1579546800-1579546800@www.barntgreenparishcouncil.gov.uk
SUMMARY:Ordinary Parish Council
DESCRIPTION:Starting July 2018\, the parish council’s meetings will be held at Barnt Green Baptist Church Hall\, Bittell Road B45 8LU unless otherwise stated. Members of the public are welcome to attend. Agendas will be posted to this website and to the parish council’s notice boards.
URL:https://www.barntgreenparishcouncil.gov.uk/event/ordinary-parish-council-14
CATEGORIES:Parish Council Meetings
END:VEVENT
BEGIN:VEVENT
DTSTART;TZID=UTC:20191130T160000
DTEND;TZID=UTC:20191130T180000
DTSTAMP:20260420T085506
CREATED:20191111T152248Z
LAST-MODIFIED:20191111T152248Z
UID:3910-1575129600-1575136800@www.barntgreenparishcouncil.gov.uk
SUMMARY:Barnt Green Christmas Lights Switch On
DESCRIPTION:
URL:https://www.barntgreenparishcouncil.gov.uk/event/barnt-green-christmas-lights-switch-on
LOCATION:Millennium Park\, Hewell Road\, Birmingham\, B45 8NW\, United Kingdom
END:VEVENT
BEGIN:VEVENT
DTSTART;TZID=UTC:20191118T190000
DTEND;TZID=UTC:20191118T190000
DTSTAMP:20260420T085506
CREATED:20190603T115902Z
LAST-MODIFIED:20190603T115902Z
UID:3720-1574103600-1574103600@www.barntgreenparishcouncil.gov.uk
SUMMARY:Ordinary Parish Council
DESCRIPTION:Starting July 2018\, the parish council’s meetings will be held at Barnt Green Baptist Church Hall\, Bittell Road B45 8LU unless otherwise stated. Members of the public are welcome to attend. Agendas will be posted to this website and to the parish council’s notice boards.
URL:https://www.barntgreenparishcouncil.gov.uk/event/ordinary-parish-council-13
CATEGORIES:Parish Council Meetings
END:VEVENT
BEGIN:VEVENT
DTSTART;TZID=UTC:20191028T193000
DTEND;TZID=UTC:20191028T203000
DTSTAMP:20260420T085506
CREATED:20190930T103306Z
LAST-MODIFIED:20190930T103438Z
UID:3863-1572291000-1572294600@www.barntgreenparishcouncil.gov.uk
SUMMARY:St Andrews Eco Church - An Evening with WCC Cabinet Member for the Environment\, Tony Miller
DESCRIPTION:ECO Autumn 2019 poster \n 
URL:https://www.barntgreenparishcouncil.gov.uk/event/st-andrews-eco-church-an-evening-with-wcc-cabinet-member-for-the-environment-tony-miller
LOCATION:St Andrew’s Parish Centre\, Sandhills Road\, Barnt Green\, United Kingdom\, B45 8NR
END:VEVENT
BEGIN:VEVENT
DTSTART;TZID=UTC:20191021T190000
DTEND;TZID=UTC:20191021T190000
DTSTAMP:20260420T085506
CREATED:20190603T115842Z
LAST-MODIFIED:20190603T115842Z
UID:3719-1571684400-1571684400@www.barntgreenparishcouncil.gov.uk
SUMMARY:Ordinary Parish Council
DESCRIPTION:Starting July 2018\, the parish council’s meetings will be held at Barnt Green Baptist Church Hall\, Bittell Road B45 8LU unless otherwise stated. Members of the public are welcome to attend. Agendas will be posted to this website and to the parish council’s notice boards.
URL:https://www.barntgreenparishcouncil.gov.uk/event/ordinary-parish-council-12
CATEGORIES:Parish Council Meetings
END:VEVENT
BEGIN:VEVENT
DTSTART;TZID=UTC:20191015T070000
DTEND;TZID=UTC:20191015T210000
DTSTAMP:20260420T085506
CREATED:20190930T103741Z
LAST-MODIFIED:20190930T103741Z
UID:3870-1571122800-1571173200@www.barntgreenparishcouncil.gov.uk
SUMMARY:St Andrews ECO Church - Film Showing Evening - Before the Flood
DESCRIPTION:ECO Autumn 2019 poster
URL:https://www.barntgreenparishcouncil.gov.uk/event/st-andrews-eco-church-film-showing-evening-before-the-flood
LOCATION:St Andrew’s Church\, Sandhills Road\, Barnt Green\, United Kingdom\, B45 8NR
END:VEVENT
BEGIN:VEVENT
DTSTART;TZID=UTC:20191003T180000
DTEND;TZID=UTC:20191003T200000
DTSTAMP:20260420T085506
CREATED:20190821T123508Z
LAST-MODIFIED:20190821T123509Z
UID:3816-1570125600-1570132800@www.barntgreenparishcouncil.gov.uk
SUMMARY:SmartWater Drop In Session - Thursday 3 October\, 6pm - 8pm
DESCRIPTION:SmartWater Drop In Dates
URL:https://www.barntgreenparishcouncil.gov.uk/event/smartwater-drop-in-session-thursday-3-october-6pm-8pm
LOCATION:Parish Council Office\, 80 Hewell Road\, Barnt Green\, B45 8NF\, United Kingdom
END:VEVENT
BEGIN:VEVENT
DTSTART;TZID=UTC:20190928T130000
DTEND;TZID=UTC:20190928T183000
DTSTAMP:20260420T085506
CREATED:20190821T122227Z
LAST-MODIFIED:20190919T082044Z
UID:3810-1569675600-1569695400@www.barntgreenparishcouncil.gov.uk
SUMMARY:Community Walk - Saturday 28 September 2019
DESCRIPTION:Community Walk Poster 28 September 2019 \nhttps://www.relive.cc/view/vdOR7AWLLK6 \nhttps://www.relive.cc/view/vNOPnBVGy2q \n 
URL:https://www.barntgreenparishcouncil.gov.uk/event/community-walk-saturday-28-september-2019
LOCATION:Millennium Park\, Hewell Road\, Birmingham\, B45 8NW\, United Kingdom
END:VEVENT
BEGIN:VEVENT
DTSTART;TZID=UTC:20190916T190000
DTEND;TZID=UTC:20190916T190000
DTSTAMP:20260420T085506
CREATED:20190603T115618Z
LAST-MODIFIED:20190603T115805Z
UID:3716-1568660400-1568660400@www.barntgreenparishcouncil.gov.uk
SUMMARY:Ordinary Parish Council
DESCRIPTION:Parish Council meetings will be held at Barnt Green Baptist Church Hall\, Bittell Road B45 8LU unless otherwise stated. Members of the public are welcome to attend. Agendas will be posted to this website and to the parish council’s notice boards.
URL:https://www.barntgreenparishcouncil.gov.uk/event/ordinary-parish-council-11
CATEGORIES:Parish Council Meetings
END:VEVENT
BEGIN:VEVENT
DTSTART;TZID=UTC:20190914T100000
DTEND;TZID=UTC:20190914T140000
DTSTAMP:20260420T085506
CREATED:20190821T123247Z
LAST-MODIFIED:20190821T123247Z
UID:3812-1568455200-1568469600@www.barntgreenparishcouncil.gov.uk
SUMMARY:SmartWater Drop In Session - Saturday 14 September\, 10am - 2pm
DESCRIPTION:SmartWater Drop In Dates
URL:https://www.barntgreenparishcouncil.gov.uk/event/smartwater-drop-in-session-saturday-14-september-10am-2pm
LOCATION:Parish Council Office\, 80 Hewell Road\, Barnt Green\, B45 8NF\, United Kingdom
END:VEVENT
BEGIN:VEVENT
DTSTART;TZID=UTC:20190818T133000
DTEND;TZID=UTC:20190818T173000
DTSTAMP:20260420T085506
CREATED:20190729T120751Z
LAST-MODIFIED:20190729T120751Z
UID:3790-1566135000-1566149400@www.barntgreenparishcouncil.gov.uk
SUMMARY:Garden Open
DESCRIPTION:
URL:https://www.barntgreenparishcouncil.gov.uk/event/garden-open
END:VEVENT
BEGIN:VEVENT
DTSTART;TZID=UTC:20190806T100000
DTEND;TZID=UTC:20190806T230000
DTSTAMP:20260420T085506
CREATED:20190730T093315Z
LAST-MODIFIED:20190730T093508Z
UID:3796-1565085600-1565132400@www.barntgreenparishcouncil.gov.uk
SUMMARY:Planning Committee Meeting
DESCRIPTION:Parish Council meetings will be held at Barnt Green Parish Council Office\, 80 Hewell Road\, B45 8NF unless otherwise stated. Members of the public are welcome to attend. Agendas will be posted to this website and to the parish council notice boards.
URL:https://www.barntgreenparishcouncil.gov.uk/event/planning-committee-meeting-3
LOCATION:Parish Council Office\, 80 Hewell Road\, Barnt Green\, B45 8NF\, United Kingdom
CATEGORIES:Parish Council Meetings
END:VEVENT
BEGIN:VEVENT
DTSTART;TZID=UTC:20190715T190000
DTEND;TZID=UTC:20190715T190000
DTSTAMP:20260420T085506
CREATED:20190603T115548Z
LAST-MODIFIED:20190603T115548Z
UID:3715-1563217200-1563217200@www.barntgreenparishcouncil.gov.uk
SUMMARY:Ordinary Parish Council
DESCRIPTION:Starting July 2018\, the parish council’s meetings will be held at Barnt Green Baptist Church Hall\, Bittell Road B45 8LU unless otherwise stated. Members of the public are welcome to attend. Agendas will be posted to this website and to the parish council’s notice boards.
URL:https://www.barntgreenparishcouncil.gov.uk/event/ordinary-parish-council-10
CATEGORIES:Parish Council Meetings
END:VEVENT
BEGIN:VEVENT
DTSTART;TZID=UTC:20190707T140000
DTEND;TZID=UTC:20190707T170000
DTSTAMP:20260420T085506
CREATED:20190603T123839Z
LAST-MODIFIED:20190603T123839Z
UID:3731-1562508000-1562518800@www.barntgreenparishcouncil.gov.uk
SUMMARY:Barnt Green Village Treasure Hunt - Sunday 7 July 2019
DESCRIPTION:Barnt Green Treasure Hunt – Sunday 7th July\, Millennium Park\, 2pm – 5pm \nCome and explore the village and solve clues as you go \nThere will be prizes for the winning treasure seekers. \nTwo trails – one for children and one for adults \nFollowed by food and music in Millennium Park
URL:https://www.barntgreenparishcouncil.gov.uk/event/barnt-green-village-treasure-hunt-sunday-7-july-2019
LOCATION:Millennium Park\, Hewell Road\, Birmingham\, B45 8NW\, United Kingdom
END:VEVENT
BEGIN:VEVENT
DTSTART;TZID=UTC:20190617T190000
DTEND;TZID=UTC:20190617T190000
DTSTAMP:20260420T085506
CREATED:20190603T115442Z
LAST-MODIFIED:20190603T115442Z
UID:3714-1560798000-1560798000@www.barntgreenparishcouncil.gov.uk
SUMMARY:Ordinary Parish Council
DESCRIPTION:Starting July 2018\, the parish council’s meetings will be held at Barnt Green Baptist Church Hall\, Bittell Road B45 8LU unless otherwise stated. Members of the public are welcome to attend. Agendas will be posted to this website and to the parish council’s notice boards.
URL:https://www.barntgreenparishcouncil.gov.uk/event/ordinary-parish-council-9
CATEGORIES:Parish Council Meetings
END:VEVENT
BEGIN:VEVENT
DTSTART;TZID=UTC:20190520T190000
DTEND;TZID=UTC:20190520T190000
DTSTAMP:20260420T085506
CREATED:20181025T082833Z
LAST-MODIFIED:20181025T082833Z
UID:3564-1558378800-1558378800@www.barntgreenparishcouncil.gov.uk
SUMMARY:Annual Meeting of the Parish Council
DESCRIPTION:Starting July 2018\, the parish council’s meetings will be held at Barnt Green Baptist Church Hall\, Bittell Road B45 8LU unless otherwise stated. Members of the public are welcome to attend. Agendas will be posted to this website and to the parish council’s notice boards.
URL:https://www.barntgreenparishcouncil.gov.uk/event/annual-meeting-of-the-parish-council
LOCATION:Barnt Green Baptist Church\, Bittell Road\, Barnt Green\, Birmingham\, B45 8LU\, United Kingdom
CATEGORIES:Parish Council Meetings
END:VEVENT
BEGIN:VEVENT
DTSTART;TZID=UTC:20190415T190000
DTEND;TZID=UTC:20190415T190000
DTSTAMP:20260420T085506
CREATED:20181025T082642Z
LAST-MODIFIED:20181025T082642Z
UID:3562-1555354800-1555354800@www.barntgreenparishcouncil.gov.uk
SUMMARY:Ordinary Parish Council
DESCRIPTION:Starting July 2018\, the parish council’s meetings will be held at Barnt Green Baptist Church Hall\, Bittell Road B45 8LU unless otherwise stated. Members of the public are welcome to attend. Agendas will be posted to this website and to the parish council’s notice boards.
URL:https://www.barntgreenparishcouncil.gov.uk/event/ordinary-parish-council-7
LOCATION:Barnt Green Baptist Church\, Bittell Road\, Barnt Green\, Birmingham\, B45 8LU\, United Kingdom
CATEGORIES:Parish Council Meetings
END:VEVENT
BEGIN:VEVENT
DTSTART;TZID=UTC:20190218T190000
DTEND;TZID=UTC:20190218T190000
DTSTAMP:20260420T085506
CREATED:20181025T082239Z
LAST-MODIFIED:20181025T082239Z
UID:3559-1550516400-1550516400@www.barntgreenparishcouncil.gov.uk
SUMMARY:Ordinary Parish Council
DESCRIPTION:Starting July 2018\, the parish council’s meetings will be held at Barnt Green Baptist Church Hall\, Bittell Road B45 8LU unless otherwise stated. Members of the public are welcome to attend. Agendas will be posted to this website and to the parish council’s notice boards.
URL:https://www.barntgreenparishcouncil.gov.uk/event/ordinary-parish-council-6
LOCATION:Barnt Green Baptist Church\, Bittell Road\, Barnt Green\, Birmingham\, B45 8LU\, United Kingdom
CATEGORIES:Parish Council Meetings
END:VEVENT
BEGIN:VEVENT
DTSTART;TZID=UTC:20190121T190000
DTEND;TZID=UTC:20190121T210000
DTSTAMP:20260420T085506
CREATED:20181025T081801Z
LAST-MODIFIED:20181025T082117Z
UID:3555-1548097200-1548104400@www.barntgreenparishcouncil.gov.uk
SUMMARY:Ordinary Parish Council
DESCRIPTION:Starting July 2018\, the parish council’s meetings will be held at Barnt Green Baptist Church Hall\, Bittell Road B45 8LU unless otherwise stated. Members of the public are welcome to attend. Agendas will be posted to this website and to the parish council’s notice boards.
URL:https://www.barntgreenparishcouncil.gov.uk/event/ordinary-parish-council-5
LOCATION:Barnt Green Baptist Church\, Bittell Road\, Barnt Green\, Birmingham\, B45 8LU\, United Kingdom
CATEGORIES:Parish Council Meetings
END:VEVENT
BEGIN:VEVENT
DTSTART;TZID=UTC:20181201T153000
DTEND;TZID=UTC:20181201T173000
DTSTAMP:20260420T085506
CREATED:20180326T120308Z
LAST-MODIFIED:20180326T120308Z
UID:3321-1543678200-1543685400@www.barntgreenparishcouncil.gov.uk
SUMMARY:Christmas Lights Switch-On
DESCRIPTION:Come and enjoy the season’s festivities!
URL:https://www.barntgreenparishcouncil.gov.uk/event/christmas-lights-switch-on-2
LOCATION:Millennium Park\, Hewell Road\, Birmingham\, B45 8NW\, United Kingdom
END:VEVENT
END:VCALENDAR