BEGIN:VCALENDAR
VERSION:2.0
PRODID:-//Barnt Green Parish Council - ECPv6.15.18//NONSGML v1.0//EN
CALSCALE:GREGORIAN
METHOD:PUBLISH
X-WR-CALNAME:Barnt Green Parish Council
X-ORIGINAL-URL:https://www.barntgreenparishcouncil.gov.uk
X-WR-CALDESC:Events for Barnt Green Parish Council
REFRESH-INTERVAL;VALUE=DURATION:PT1H
X-Robots-Tag:noindex
X-PUBLISHED-TTL:PT1H
BEGIN:VTIMEZONE
TZID:UTC
BEGIN:STANDARD
TZOFFSETFROM:+0000
TZOFFSETTO:+0000
TZNAME:UTC
DTSTART:19690101T000000
END:STANDARD
END:VTIMEZONE
BEGIN:VEVENT
DTSTART;TZID=UTC:20260420T232603
DTEND;TZID=UTC:20260420T232603
DTSTAMP:20260420T232603
CREATED:20210208T152136Z
LAST-MODIFIED:20210208T152136Z
UID:4384-0-0@www.barntgreenparishcouncil.gov.uk
SUMMARY:Online Parish Council Meeting
DESCRIPTION:ALL EVENTS ARE CANCELLED UNTIL FURTHER NOTICE. PARISH COUNCIL MEETINGS WILL CONTINUE IN AN ONLINE FORMAT AND WILL BE PUBLICISED 3 WORKING DAYS PRIOR TO THE MEETING BEING HELD. Please check our social media page for updated information and Government guidance on Covid-19
URL:https://www.barntgreenparishcouncil.gov.uk/event/online-parish-council-meeting-8
LOCATION:Online
CATEGORIES:Parish Council Meetings
END:VEVENT
BEGIN:VEVENT
DTSTART;TZID=UTC:20260420T232603
DTEND;TZID=UTC:20260420T232603
DTSTAMP:20260420T232603
CREATED:20210120T122748Z
LAST-MODIFIED:20210120T122748Z
UID:4344-0-0@www.barntgreenparishcouncil.gov.uk
SUMMARY:Online Parish Council Meeting
DESCRIPTION:ALL EVENTS ARE CANCELLED UNTIL FURTHER NOTICE. PARISH COUNCIL MEETINGS WILL CONTINUE IN AN ONLINE FORMAT AND WILL BE PUBLICISED 3 WORKING DAYS PRIOR TO THE MEETING BEING HELD. Please check our social media page for updated information and Government guidance on Covid-19
URL:https://www.barntgreenparishcouncil.gov.uk/event/online-parish-council-meeting-7
LOCATION:Online
CATEGORIES:Parish Council Meetings
END:VEVENT
BEGIN:VEVENT
DTSTART;TZID=UTC:20260420T232603
DTEND;TZID=UTC:20260420T232603
DTSTAMP:20260420T232603
CREATED:20210111T115423Z
LAST-MODIFIED:20210111T115423Z
UID:4318-0-0@www.barntgreenparishcouncil.gov.uk
SUMMARY:Online Parish Council Meeting
DESCRIPTION:ALL EVENTS ARE CANCELLED UNTIL FURTHER NOTICE. PARISH COUNCIL MEETINGS WILL CONTINUE IN AN ONLINE FORMAT AND WILL BE PUBLICISED 3 WORKING DAYS PRIOR TO THE MEETING BEING HELD. Please check our social media page for updated information and Government guidance on Covid-19
URL:https://www.barntgreenparishcouncil.gov.uk/event/online-parish-council-meeting-6
LOCATION:Online
CATEGORIES:Parish Council Meetings
END:VEVENT
BEGIN:VEVENT
DTSTART;TZID=UTC:20260420T232603
DTEND;TZID=UTC:20260420T232603
DTSTAMP:20260420T232603
CREATED:20201124T120016Z
LAST-MODIFIED:20201124T120016Z
UID:4251-0-0@www.barntgreenparishcouncil.gov.uk
SUMMARY:Online Parish Council Meeting
DESCRIPTION:ALL EVENTS ARE CANCELLED UNTIL FURTHER NOTICE. PARISH COUNCIL MEETINGS WILL CONTINUE IN AN ONLINE FORMAT AND WILL BE PUBLICISED 3 WORKING DAYS PRIOR TO THE MEETING BEING HELD. Please check our social media page for updated information and Government guidance on Covid-19
URL:https://www.barntgreenparishcouncil.gov.uk/event/online-parish-council-meeting-5
LOCATION:Online
CATEGORIES:Parish Council Meetings
END:VEVENT
BEGIN:VEVENT
DTSTART;TZID=UTC:20260420T232603
DTEND;TZID=UTC:20260420T232603
DTSTAMP:20260420T232603
CREATED:20201020T151748Z
LAST-MODIFIED:20201020T151748Z
UID:4218-0-0@www.barntgreenparishcouncil.gov.uk
SUMMARY:Online Parish Council Meeting
DESCRIPTION:ALL EVENTS ARE CANCELLED UNTIL FURTHER NOTICE. PARISH COUNCIL MEETINGS WILL CONTINUE IN AN ONLINE FORMAT AND WILL BE PUBLICISED 3 WORKING DAYS PRIOR TO THE MEETING BEING HELD. Please check our social media page for updated information and Government guidance on Covid-19
URL:https://www.barntgreenparishcouncil.gov.uk/event/online-parish-council-meeting-4
LOCATION:Online
CATEGORIES:Parish Council Meetings
END:VEVENT
BEGIN:VEVENT
DTSTART;TZID=UTC:20260420T232603
DTEND;TZID=UTC:20260420T232603
DTSTAMP:20260420T232603
CREATED:20200914T152131Z
LAST-MODIFIED:20200914T152131Z
UID:4193-0-0@www.barntgreenparishcouncil.gov.uk
SUMMARY:Online Parish Council Meeting
DESCRIPTION:ALL EVENTS ARE CANCELLED UNTIL FURTHER NOTICE. PARISH COUNCIL MEETINGS WILL CONTINUE IN AN ONLINE FORMAT AND WILL BE PUBLICISED 3 WORKING DAYS PRIOR TO THE MEETING BEING HELD. Please check our social media page for updated information and Government guidance on Covid-19
URL:https://www.barntgreenparishcouncil.gov.uk/event/online-parish-council-meeting-3
LOCATION:Online
CATEGORIES:Parish Council Meetings
END:VEVENT
BEGIN:VEVENT
DTSTART;TZID=UTC:20260420T232603
DTEND;TZID=UTC:20260420T232603
DTSTAMP:20260420T232603
CREATED:20200616T142513Z
LAST-MODIFIED:20200616T142513Z
UID:4113-0-0@www.barntgreenparishcouncil.gov.uk
SUMMARY:Online Parish Council Meeting
DESCRIPTION:ALL EVENTS ARE CANCELLED UNTIL FURTHER NOTICE. PARISH COUNCIL MEETINGS WILL CONTINUE IN AN ONLINE FORMAT AND WILL BE PUBLICISED 3 WORKING DAYS PRIOR TO THE MEETING BEING HELD. Please check our social media page for updated information and Government guidance on Covid-19
URL:https://www.barntgreenparishcouncil.gov.uk/event/online-parish-council-meeting
CATEGORIES:Parish Council Meetings
END:VEVENT
BEGIN:VEVENT
DTSTART;TZID=UTC:20260420T232603
DTEND;TZID=UTC:20260420T232603
DTSTAMP:20260420T232603
CREATED:20200514T110719Z
LAST-MODIFIED:20200514T110719Z
UID:4084-0-0@www.barntgreenparishcouncil.gov.uk
SUMMARY:Parish Council Meeting - Thursday 21st May 2020 at 11am - Online Meeting
DESCRIPTION:ALL PARISH COUNCIL MEETINGS AND EVENTS ARE CANCELLED UNTIL FURTHER NOTICE. Please check our social media page for updated information and Government guidance on Covid-19
URL:https://www.barntgreenparishcouncil.gov.uk/event/parish-council-meeting-thursday-21st-may-2020-at-11am-online-meeting
END:VEVENT
BEGIN:VEVENT
DTSTART;TZID=UTC:20260420T232603
DTEND;TZID=UTC:20260420T232603
DTSTAMP:20260420T232603
CREATED:20200305T142533Z
LAST-MODIFIED:20200305T142533Z
UID:4001-0-0@www.barntgreenparishcouncil.gov.uk
SUMMARY:Staffing Committee Meeting
DESCRIPTION:Parish Council meetings will be held at Barnt Green Parish Council Office\, 80 Hewell Road\, B45 8NF unless otherwise stated. Members of the public are welcome to attend. Agendas will be posted to this website and to the parish council notice boards.
URL:https://www.barntgreenparishcouncil.gov.uk/event/staffing-committee-meeting
LOCATION:Parish Council Office\, 80 Hewell Road\, Barnt Green\, B45 8NF\, United Kingdom
CATEGORIES:Parish Council Meetings
END:VEVENT
BEGIN:VEVENT
DTSTART;TZID=UTC:20260420T232603
DTEND;TZID=UTC:20260420T232603
DTSTAMP:20260420T232603
CREATED:20200116T110506Z
LAST-MODIFIED:20200116T110506Z
UID:3963-0-0@www.barntgreenparishcouncil.gov.uk
SUMMARY:Ordinary Parish Council Meeting
DESCRIPTION:Parish Council meetings will be held at Barnt Green Parish Council Office\, 80 Hewell Road\, B45 8NF unless otherwise stated. Members of the public are welcome to attend. Agendas will be posted to this website and to the parish council notice boards.
URL:https://www.barntgreenparishcouncil.gov.uk/event/ordinary-parish-council-meeting
LOCATION:Parish Council Office\, 80 Hewell Road\, Barnt Green\, B45 8NF\, United Kingdom
CATEGORIES:Parish Council Meetings
END:VEVENT
BEGIN:VEVENT
DTSTART;TZID=UTC:20260420T232603
DTEND;TZID=UTC:20260420T232603
DTSTAMP:20260420T232603
CREATED:20190730T093644Z
LAST-MODIFIED:20190730T093644Z
UID:3799-0-0@www.barntgreenparishcouncil.gov.uk
SUMMARY:Planning Committee Meeting
DESCRIPTION:Parish Council meetings will be held at Barnt Green Parish Council Office\, 80 Hewell Road\, B45 8NF unless otherwise stated. Members of the public are welcome to attend. Agendas will be posted to this website and to the parish council notice boards.
URL:https://www.barntgreenparishcouncil.gov.uk/event/planning-committee-meeting-4
LOCATION:Parish Council Office\, 80 Hewell Road\, Barnt Green\, B45 8NF\, United Kingdom
CATEGORIES:Parish Council Meetings
END:VEVENT
BEGIN:VEVENT
DTSTART;TZID=UTC:20260420T232603
DTEND;TZID=UTC:20260420T232603
DTSTAMP:20260420T232603
CREATED:20190603T121728Z
LAST-MODIFIED:20190603T121728Z
UID:3730-0-0@www.barntgreenparishcouncil.gov.uk
SUMMARY:Finance & General Purposes Committee
DESCRIPTION:Starting July 2018\, the parish council’s meetings will be held at Barnt Green Baptist Church Hall\, Bittell Road B45 8LU unless otherwise stated. Members of the public are welcome to attend. Agendas will be posted to this website and to the parish council’s notice boards.
URL:https://www.barntgreenparishcouncil.gov.uk/event/finance-general-purposes-committee-4
CATEGORIES:Parish Council Meetings
END:VEVENT
BEGIN:VEVENT
DTSTART;TZID=UTC:20260420T232603
DTEND;TZID=UTC:20260420T232603
DTSTAMP:20260420T232603
CREATED:20190603T121711Z
LAST-MODIFIED:20190603T121711Z
UID:3729-0-0@www.barntgreenparishcouncil.gov.uk
SUMMARY:Finance & General Purposes Committee
DESCRIPTION:Starting July 2018\, the parish council’s meetings will be held at Barnt Green Baptist Church Hall\, Bittell Road B45 8LU unless otherwise stated. Members of the public are welcome to attend. Agendas will be posted to this website and to the parish council’s notice boards.
URL:https://www.barntgreenparishcouncil.gov.uk/event/finance-general-purposes-committee-3
CATEGORIES:Parish Council Meetings
END:VEVENT
BEGIN:VEVENT
DTSTART;TZID=UTC:20260420T232603
DTEND;TZID=UTC:20260420T232603
DTSTAMP:20260420T232603
CREATED:20190603T121648Z
LAST-MODIFIED:20190603T121648Z
UID:3728-0-0@www.barntgreenparishcouncil.gov.uk
SUMMARY:Environment Committee
DESCRIPTION:Starting July 2018\, the parish council’s meetings will be held at Barnt Green Baptist Church Hall\, Bittell Road B45 8LU unless otherwise stated. Members of the public are welcome to attend. Agendas will be posted to this website and to the parish council’s notice boards.
URL:https://www.barntgreenparishcouncil.gov.uk/event/environment-committee-5
CATEGORIES:Parish Council Meetings
END:VEVENT
BEGIN:VEVENT
DTSTART;TZID=UTC:20260420T232603
DTEND;TZID=UTC:20260420T232603
DTSTAMP:20260420T232603
CREATED:20190603T121623Z
LAST-MODIFIED:20190603T121623Z
UID:3727-0-0@www.barntgreenparishcouncil.gov.uk
SUMMARY:Environment Committee
DESCRIPTION:Starting July 2018\, the parish council’s meetings will be held at Barnt Green Baptist Church Hall\, Bittell Road B45 8LU unless otherwise stated. Members of the public are welcome to attend. Agendas will be posted to this website and to the parish council’s notice boards.
URL:https://www.barntgreenparishcouncil.gov.uk/event/environment-committee-4
CATEGORIES:Parish Council Meetings
END:VEVENT
BEGIN:VEVENT
DTSTART;TZID=UTC:20260420T232603
DTEND;TZID=UTC:20260420T232603
DTSTAMP:20260420T232603
CREATED:20190603T115405Z
LAST-MODIFIED:20190603T115405Z
UID:3713-0-0@www.barntgreenparishcouncil.gov.uk
SUMMARY:Finance & General Purposes Committee
DESCRIPTION:Starting July 2018\, the parish council’s meetings will be held at Barnt Green Baptist Church Hall\, Bittell Road B45 8LU unless otherwise stated. Members of the public are welcome to attend. Agendas will be posted to this website and to the parish council’s notice boards.
URL:https://www.barntgreenparishcouncil.gov.uk/event/finance-general-purposes-committee-2
LOCATION:Parish Council Office\, 80 Hewell Road\, Barnt Green\, B45 8NF\, United Kingdom
CATEGORIES:Parish Council Meetings
END:VEVENT
BEGIN:VEVENT
DTSTART;TZID=UTC:20260420T232603
DTEND;TZID=UTC:20260420T232603
DTSTAMP:20260420T232603
CREATED:20190603T115226Z
LAST-MODIFIED:20190603T115226Z
UID:3711-0-0@www.barntgreenparishcouncil.gov.uk
SUMMARY:Finance & General Purposes Committee
DESCRIPTION:Starting July 2018\, the parish council’s meetings will be held at Barnt Green Baptist Church Hall\, Bittell Road B45 8LU unless otherwise stated. Members of the public are welcome to attend. Agendas will be posted to this website and to the parish council’s notice boards.
URL:https://www.barntgreenparishcouncil.gov.uk/event/finance-general-purposes-committee
LOCATION:Parish Council Office\, 80 Hewell Road\, Barnt Green\, B45 8NF\, United Kingdom
CATEGORIES:Parish Council Meetings
END:VEVENT
BEGIN:VEVENT
DTSTART;TZID=UTC:20260420T232603
DTEND;TZID=UTC:20260420T232603
DTSTAMP:20260420T232603
CREATED:20181025T083326Z
LAST-MODIFIED:20181025T083326Z
UID:3570-0-0@www.barntgreenparishcouncil.gov.uk
SUMMARY:Finance and General Purposes
DESCRIPTION:Starting July 2018\, the parish council’s meetings will be held at Barnt Green Baptist Church Hall\, Bittell Road B45 8LU unless otherwise stated. Members of the public are welcome to attend. Agendas will be posted to this website and to the parish council’s notice boards.
URL:https://www.barntgreenparishcouncil.gov.uk/event/finance-and-general-purposes-2
LOCATION:Parish Council Office\, 80 Hewell Road\, Barnt Green\, B45 8NF\, United Kingdom
CATEGORIES:Parish Council Meetings
END:VEVENT
BEGIN:VEVENT
DTSTART;TZID=UTC:20260420T232603
DTEND;TZID=UTC:20260420T232603
DTSTAMP:20260420T232603
CREATED:20181025T083227Z
LAST-MODIFIED:20181025T083227Z
UID:3568-0-0@www.barntgreenparishcouncil.gov.uk
SUMMARY:Finance and General Purposes
DESCRIPTION:Starting July 2018\, the parish council’s meetings will be held at Barnt Green Baptist Church Hall\, Bittell Road B45 8LU unless otherwise stated. Members of the public are welcome to attend. Agendas will be posted to this website and to the parish council’s notice boards.
URL:https://www.barntgreenparishcouncil.gov.uk/event/finance-and-general-purposes
LOCATION:Parish Council Office\, 80 Hewell Road\, Barnt Green\, B45 8NF\, United Kingdom
CATEGORIES:Parish Council Meetings
END:VEVENT
BEGIN:VEVENT
DTSTART;TZID=UTC:20260420T232603
DTEND;TZID=UTC:20260420T232603
DTSTAMP:20260420T232603
CREATED:20181025T083128Z
LAST-MODIFIED:20181025T083128Z
UID:3566-0-0@www.barntgreenparishcouncil.gov.uk
SUMMARY:Environment Committee
DESCRIPTION:The venue and timing of committee meetings may be subject to change.  Please check the agenda.
URL:https://www.barntgreenparishcouncil.gov.uk/event/environment-committee-3
LOCATION:Parish Council Office\, 80 Hewell Road\, Barnt Green\, B45 8NF\, United Kingdom
CATEGORIES:Parish Council Meetings
END:VEVENT
BEGIN:VEVENT
DTSTART;TZID=UTC:20260420T232603
DTEND;TZID=UTC:20260420T232603
DTSTAMP:20260420T232603
CREATED:20180803T093819Z
LAST-MODIFIED:20180803T093819Z
UID:3488-0-0@www.barntgreenparishcouncil.gov.uk
SUMMARY:
DESCRIPTION:Parish Council Planning Committee meeting at 80 Hewell Road B45 8NF
URL:https://www.barntgreenparishcouncil.gov.uk/event/3488
LOCATION:Parish Council Office\, 80 Hewell Road\, Barnt Green\, B45 8NF\, United Kingdom
CATEGORIES:Parish Council Meetings
END:VEVENT
BEGIN:VEVENT
DTSTART;TZID=UTC:20260420T232603
DTEND;TZID=UTC:20260420T232603
DTSTAMP:20260420T232603
CREATED:20180604T140841Z
LAST-MODIFIED:20180604T140841Z
UID:3440-1776727563-1776727563@www.barntgreenparishcouncil.gov.uk
SUMMARY:Environment Committee
DESCRIPTION:Committee meeting of Environment Committee at 80 Hewell Road B45 8NF
URL:https://www.barntgreenparishcouncil.gov.uk/event/environment-committee-2
LOCATION:Parish Council Office\, 80 Hewell Road\, Barnt Green\, B45 8NF\, United Kingdom
CATEGORIES:Parish Council Meetings
END:VEVENT
BEGIN:VEVENT
DTSTART;TZID=UTC:20260420T232603
DTEND;TZID=UTC:20260420T232603
DTSTAMP:20260420T232603
CREATED:20180604T140807Z
LAST-MODIFIED:20180604T140807Z
UID:3439-1776727563-1776727563@www.barntgreenparishcouncil.gov.uk
SUMMARY:Environment Committee
DESCRIPTION:Environment Committee meeting at 80 Hewell Road B45 8NF
URL:https://www.barntgreenparishcouncil.gov.uk/event/environment-committee
LOCATION:Parish Council Office\, 80 Hewell Road\, Barnt Green\, B45 8NF\, United Kingdom
CATEGORIES:Parish Council Meetings
END:VEVENT
BEGIN:VEVENT
DTSTART;TZID=UTC:20260420T232603
DTEND;TZID=UTC:20260420T232603
DTSTAMP:20260420T232603
CREATED:20180604T140734Z
LAST-MODIFIED:20180604T140734Z
UID:3438-1776727563-1776727563@www.barntgreenparishcouncil.gov.uk
SUMMARY:Finance Committee
DESCRIPTION:Meeting of Finance and General Purposes Committee at 80 Hewell Road\, B45 8NF
URL:https://www.barntgreenparishcouncil.gov.uk/event/finance-committee-2
LOCATION:Parish Council Office\, 80 Hewell Road\, Barnt Green\, B45 8NF\, United Kingdom
CATEGORIES:Parish Council Meetings
END:VEVENT
BEGIN:VEVENT
DTSTART;TZID=UTC:20260420T232603
DTEND;TZID=UTC:20260420T232603
DTSTAMP:20260420T232603
CREATED:20180604T140650Z
LAST-MODIFIED:20180604T140650Z
UID:3437-1776727563-1776727563@www.barntgreenparishcouncil.gov.uk
SUMMARY:Finance Committee
DESCRIPTION:Meeting of Finance and General Purposes Committee at 80 Hewell Road B45 8NF
URL:https://www.barntgreenparishcouncil.gov.uk/event/finance-committee
LOCATION:Parish Council Office\, 80 Hewell Road\, Barnt Green\, B45 8NF\, United Kingdom
CATEGORIES:Parish Council Meetings
END:VEVENT
BEGIN:VEVENT
DTSTART;TZID=UTC:20260420T232603
DTEND;TZID=UTC:20260420T232603
DTSTAMP:20260420T232603
CREATED:20180604T140416Z
LAST-MODIFIED:20180604T140416Z
UID:3436-1776727563-1776727563@www.barntgreenparishcouncil.gov.uk
SUMMARY:Staffing Committee
DESCRIPTION:Meeting of the Finance and General Purposes Committee at 80 Hewell Road B45 8NF
URL:https://www.barntgreenparishcouncil.gov.uk/event/staffing-committee
LOCATION:Parish Council Office\, 80 Hewell Road\, Barnt Green\, B45 8NF\, United Kingdom
CATEGORIES:Parish Council Meetings
END:VEVENT
END:VCALENDAR