BEGIN:VCALENDAR
VERSION:2.0
PRODID:-//Barnt Green Parish Council - ECPv6.15.18//NONSGML v1.0//EN
CALSCALE:GREGORIAN
METHOD:PUBLISH
X-WR-CALNAME:Barnt Green Parish Council
X-ORIGINAL-URL:https://www.barntgreenparishcouncil.gov.uk
X-WR-CALDESC:Events for Barnt Green Parish Council
REFRESH-INTERVAL;VALUE=DURATION:PT1H
X-Robots-Tag:noindex
X-PUBLISHED-TTL:PT1H
BEGIN:VTIMEZONE
TZID:UTC
BEGIN:STANDARD
TZOFFSETFROM:+0000
TZOFFSETTO:+0000
TZNAME:UTC
DTSTART:19690101T000000
END:STANDARD
END:VTIMEZONE
BEGIN:VTIMEZONE
TZID:Europe/London
BEGIN:STANDARD
TZOFFSETFROM:+0100
TZOFFSETTO:+0000
TZNAME:GMT
DTSTART:19711031T020000
END:STANDARD
END:VTIMEZONE
BEGIN:VEVENT
DTSTART;TZID=UTC:20180618T190000
DTEND;TZID=UTC:20180618T213000
DTSTAMP:20260420T040349
CREATED:20170920T074825Z
LAST-MODIFIED:20180326T115741Z
UID:3160-1529348400-1529357400@www.barntgreenparishcouncil.gov.uk
SUMMARY:Parish Council meeting
DESCRIPTION:Monthly meeting of Barnt Green Parish Council \nOpen to members of the public.
URL:https://www.barntgreenparishcouncil.gov.uk/event/parish-council-meeting-6-2018-06-19
LOCATION:Barnt Green First School\, First School\, Hewell Road\, Barnt Green\, B45 8NG\, United Kingdom
END:VEVENT
BEGIN:VEVENT
DTSTART;TZID=UTC:20180618T190000
DTEND;TZID=UTC:20180618T190000
DTSTAMP:20260420T040349
CREATED:20180531T134751Z
LAST-MODIFIED:20180531T134751Z
UID:3410-1529348400-1529348400@www.barntgreenparishcouncil.gov.uk
SUMMARY:Ordinary Parish Council
DESCRIPTION:This meeting will be held at St Andrews First School\, Hewell Road\, Barnt Green B45 8NG
URL:https://www.barntgreenparishcouncil.gov.uk/event/ordinary-parish-council
LOCATION:Barnt Green First School\, First School\, Hewell Road\, Barnt Green\, B45 8NG\, United Kingdom
CATEGORIES:Parish Council Meetings
END:VEVENT
BEGIN:VEVENT
DTSTART;TZID=UTC:20180521T190000
DTEND;TZID=UTC:20180521T213000
DTSTAMP:20260420T040349
CREATED:20170920T074825Z
LAST-MODIFIED:20180326T115707Z
UID:3159-1526929200-1526938200@www.barntgreenparishcouncil.gov.uk
SUMMARY:Parish Council meeting
DESCRIPTION:Monthly meeting of Barnt Green Parish Council \nOpen to members of the public.
URL:https://www.barntgreenparishcouncil.gov.uk/event/parish-council-meeting-6-2018-05-19
LOCATION:Barnt Green First School\, First School\, Hewell Road\, Barnt Green\, B45 8NG\, United Kingdom
END:VEVENT
BEGIN:VEVENT
DTSTART;TZID=UTC:20180501T190000
DTEND;TZID=UTC:20180501T190000
DTSTAMP:20260420T040349
CREATED:20180424T144851Z
LAST-MODIFIED:20180424T144851Z
UID:3374-1525201200-1525201200@www.barntgreenparishcouncil.gov.uk
SUMMARY:Planning Committee\, at 80 Hewell Road
DESCRIPTION:From January 2018\, the parish council’s meetings will be held at St Andrews C of E First School\, Hewell Road B45 8NG unless otherwise stated. Members of the public are welcome to attend. Agendas will be posted to this website and to the parish council’s notice boards.
URL:https://www.barntgreenparishcouncil.gov.uk/event/planning-committee-at-80-hewell-road
LOCATION:Parish Council Office\, 80 Hewell Road\, Barnt Green\, B45 8NF\, United Kingdom
CATEGORIES:Parish Council Meetings
END:VEVENT
BEGIN:VEVENT
DTSTART;TZID=UTC:20180426T190000
DTEND;TZID=UTC:20180426T210000
DTSTAMP:20260420T040349
CREATED:20180326T120819Z
LAST-MODIFIED:20180326T120819Z
UID:3323-1524769200-1524776400@www.barntgreenparishcouncil.gov.uk
SUMMARY:Annual Parish Meeting - Your Meeting!
DESCRIPTION:Residents’ opportunity to talk about parish affairs. \nTopics likely to include new footpath lighting\, station lifts\, environmental matters\, outdoor gym equipment.  What’s on your mind?
URL:https://www.barntgreenparishcouncil.gov.uk/event/annual-parish-meeting-your-meeting
LOCATION:Quakers Meeting House\, Sandhills Road\, Barnt Green\, B45 8NR\, United Kingdom
END:VEVENT
BEGIN:VEVENT
DTSTART;TZID=UTC:20180416T190000
DTEND;TZID=UTC:20180416T213000
DTSTAMP:20260420T040349
CREATED:20170920T074825Z
LAST-MODIFIED:20180326T115605Z
UID:3158-1523905200-1523914200@www.barntgreenparishcouncil.gov.uk
SUMMARY:Parish Council meeting
DESCRIPTION:Monthly meeting of Barnt Green Parish Council \nOpen to members of the public.
URL:https://www.barntgreenparishcouncil.gov.uk/event/parish-council-meeting-6-2018-04-19
LOCATION:Barnt Green First School\, First School\, Hewell Road\, Barnt Green\, B45 8NG\, United Kingdom
END:VEVENT
BEGIN:VEVENT
DTSTART;TZID=UTC:20180319T190000
DTEND;TZID=UTC:20180319T213000
DTSTAMP:20260420T040349
CREATED:20170920T074825Z
LAST-MODIFIED:20170920T074825Z
UID:3157-1521486000-1521495000@www.barntgreenparishcouncil.gov.uk
SUMMARY:Parish Council meeting
DESCRIPTION:Monthly meeting of Barnt Green Parish Council \nOpen to members of the public.
URL:https://www.barntgreenparishcouncil.gov.uk/event/parish-council-meeting-6-2018-03-19
LOCATION:Barnt Green First School\, First School\, Hewell Road\, Barnt Green\, B45 8NG\, United Kingdom
END:VEVENT
BEGIN:VEVENT
DTSTART;VALUE=DATE:20180318
DTEND;VALUE=DATE:20180319
DTSTAMP:20260420T040349
CREATED:20180205T155102Z
LAST-MODIFIED:20180205T155102Z
UID:3273-1521331200-1521417599@www.barntgreenparishcouncil.gov.uk
SUMMARY:Annual Fun Run
DESCRIPTION:Join in with this year’s Sport Relief Billion Steps Challenge and take part in the Barnt Green Chuggers Fun Run around the village.
URL:https://www.barntgreenparishcouncil.gov.uk/event/annual-fun-run
LOCATION:Millennium Park\, Hewell Road\, Birmingham\, B45 8NW\, United Kingdom
END:VEVENT
BEGIN:VEVENT
DTSTART;TZID=UTC:20180308T180000
DTEND;TZID=UTC:20180308T180000
DTSTAMP:20260420T040349
CREATED:20180228T124522Z
LAST-MODIFIED:20180228T124522Z
UID:3296-1520532000-1520532000@www.barntgreenparishcouncil.gov.uk
SUMMARY:Planning Committee
DESCRIPTION:From January 2018\, the parish council’s meetings will be held at St Andrews C of E First School\, Hewell Road B45 8NG unless otherwise stated. Members of the public are welcome to attend. Agendas will be posted to this website and to the parish council’s notice boards.
URL:https://www.barntgreenparishcouncil.gov.uk/event/planning-committee
LOCATION:Parish Council Office\, 80 Hewell Road\, Barnt Green\, B45 8NF\, United Kingdom
CATEGORIES:Parish Council Meetings
END:VEVENT
BEGIN:VEVENT
DTSTART;TZID=UTC:20180219T190000
DTEND;TZID=UTC:20180219T213000
DTSTAMP:20260420T040349
CREATED:20170920T074825Z
LAST-MODIFIED:20170920T074825Z
UID:3155-1519066800-1519075800@www.barntgreenparishcouncil.gov.uk
SUMMARY:Parish Council meeting
DESCRIPTION:Monthly meeting of Barnt Green Parish Council \nOpen to members of the public.
URL:https://www.barntgreenparishcouncil.gov.uk/event/parish-council-meeting-6
LOCATION:Barnt Green First School\, First School\, Hewell Road\, Barnt Green\, B45 8NG\, United Kingdom
END:VEVENT
BEGIN:VEVENT
DTSTART;TZID=UTC:20180131T180000
DTEND;TZID=UTC:20180131T180000
DTSTAMP:20260420T040349
CREATED:20180124T153751Z
LAST-MODIFIED:20180125T094635Z
UID:3256-1517421600-1517421600@www.barntgreenparishcouncil.gov.uk
SUMMARY:Planning Committee meeting
DESCRIPTION:This Planning Committee meeting will be held at the parish council office: 80 Hewell Road B45 8NF and is to start at 6pm.  Members of the public are welcome to attend. The agenda has been posted to this website and to the parish council’s notice board.
URL:https://www.barntgreenparishcouncil.gov.uk/event/planning-committee-meeting-2
LOCATION:Parish Council Office\, 80 Hewell Road\, Barnt Green\, B45 8NF\, United Kingdom
CATEGORIES:Parish Council Meetings
END:VEVENT
BEGIN:VEVENT
DTSTART;TZID=UTC:20180115T190000
DTEND;TZID=UTC:20180115T213000
DTSTAMP:20260420T040349
CREATED:20170920T074617Z
LAST-MODIFIED:20170920T074617Z
UID:3153-1516042800-1516051800@www.barntgreenparishcouncil.gov.uk
SUMMARY:Parish Council meeting
DESCRIPTION:Monthly meeting of Barnt Green Parish Council \nOpen to members of the public.
URL:https://www.barntgreenparishcouncil.gov.uk/event/parish-council-meeting-5
LOCATION:Barnt Green First School\, First School\, Hewell Road\, Barnt Green\, B45 8NG\, United Kingdom
END:VEVENT
BEGIN:VEVENT
DTSTART;TZID=UTC:20171227T143000
DTEND;TZID=UTC:20171227T143000
DTSTAMP:20260420T040349
CREATED:20171119T165825Z
LAST-MODIFIED:20171119T165825Z
UID:3201-1514385000-1514385000@www.barntgreenparishcouncil.gov.uk
SUMMARY:Wassailing Walk
DESCRIPTION:Join us to walk off the excesses of Christmas and come a-wassailing to a local orchard.  Two choices of distance to walk; first walk (5 miles) will set off at 2.30pm and the second (3.3 miles) will set off at 3pm both to meet at the orchard.  Bring pots and pans\, toast (to hang on the trees) will be provided.  Mulled cider and apple juice will be available. \nWear warm clothes\, hi-viz and bring a torch in case it’s dark when we head home.
URL:https://www.barntgreenparishcouncil.gov.uk/event/wassailing-walk
LOCATION:Millennium Park\, Hewell Road\, Birmingham\, B45 8NW\, United Kingdom
END:VEVENT
BEGIN:VEVENT
DTSTART;TZID=UTC:20171212T190000
DTEND;TZID=UTC:20171212T190000
DTSTAMP:20260420T040349
CREATED:20171206T160108Z
LAST-MODIFIED:20171206T160108Z
UID:3216-1513105200-1513105200@www.barntgreenparishcouncil.gov.uk
SUMMARY:Extraordinary Meeting
DESCRIPTION:From January 2018\, meetings will be held at St Andrews C of E First School\, Hewell Road unless otherwise stated. The Extraordinary Meeting on 12th December will be held at at the Council Office\, 80 Hewell Road. Members of the public are welcome to attend.
URL:https://www.barntgreenparishcouncil.gov.uk/event/extraordinary-meeting
LOCATION:Barnt Green First School\, First School\, Hewell Road\, Barnt Green\, B45 8NG\, United Kingdom
CATEGORIES:Parish Council Meetings
END:VEVENT
BEGIN:VEVENT
DTSTART;TZID=UTC:20171202T150000
DTEND;TZID=UTC:20171202T190000
DTSTAMP:20260420T040349
CREATED:20170920T075231Z
LAST-MODIFIED:20170920T075231Z
UID:3166-1512226800-1512241200@www.barntgreenparishcouncil.gov.uk
SUMMARY:Christmas Lights Switch-On
DESCRIPTION:Victorian-themed Christmas lights event in Barnt Green. \nBrass band\, Santa and lots of fun!
URL:https://www.barntgreenparishcouncil.gov.uk/event/christmas-lights-switch-on
LOCATION:Barnt Green Village\, Hewell Road\, B45 8NE\, United Kingdom
END:VEVENT
BEGIN:VEVENT
DTSTART;TZID=UTC:20171115T190000
DTEND;TZID=UTC:20171115T213000
DTSTAMP:20260420T040349
CREATED:20170920T074508Z
LAST-MODIFIED:20170920T074508Z
UID:3151-1510772400-1510781400@www.barntgreenparishcouncil.gov.uk
SUMMARY:Parish Council meeting
DESCRIPTION:Monthly meeting of Barnt Green Parish Council \nOpen to members of the public.
URL:https://www.barntgreenparishcouncil.gov.uk/event/parish-council-meeting-4
LOCATION:Barnt Green First School\, First School\, Hewell Road\, Barnt Green\, B45 8NG\, United Kingdom
END:VEVENT
BEGIN:VEVENT
DTSTART;TZID=UTC:20171018T190000
DTEND;TZID=UTC:20171018T213000
DTSTAMP:20260420T040349
CREATED:20170920T074412Z
LAST-MODIFIED:20170920T074412Z
UID:3149-1508353200-1508362200@www.barntgreenparishcouncil.gov.uk
SUMMARY:Parish Council Meeting
DESCRIPTION:Monthly meeting of Barnt Green Parish Council \nOpen to members of the public.
URL:https://www.barntgreenparishcouncil.gov.uk/event/parish-council-meeting-3
LOCATION:Barnt Green First School\, First School\, Hewell Road\, Barnt Green\, B45 8NG\, United Kingdom
END:VEVENT
BEGIN:VEVENT
DTSTART;TZID=UTC:20170923T140000
DTEND;TZID=UTC:20170923T140000
DTSTAMP:20260420T040349
CREATED:20170728T095132Z
LAST-MODIFIED:20170728T095336Z
UID:2870-1506175200-1506175200@www.barntgreenparishcouncil.gov.uk
SUMMARY:Annual Walking Festival
DESCRIPTION:We invite you to join us on Saturday\, 23rd September on any one of our 3 walks. All start from Millennium Arch\, Hewell Road\, B45 8NW. \n–           Enjoy the beauty of our surrounding countryside \n–           Enjoy the fresh air and feel healthy \n–           Enjoy the company \n–           Enjoy the post walk refreshments and entertainment \nWalk 1 (Shortwood and the Withered Arm) –  8 1/2 mile walk visiting Shortwood Tunnel on the Worcester canal. We will also walk along a disused section of the same canal. Meet at 1PM for 1:30PM start. \nWalk 2 (Apes Dale) – 5 mile walk visiting the Hamlet of Apes Dale and Blackwell. Meet at 2PM for 2:30PM start. \nWalk 3 (Pinfield Woods and Old Orchard Walk) – 3 mile walk visiting Pinfield woods in Lickey Hills Country Park and return via Old Orchard walk. Meet at 3PM for 3:30PM start. \nAll walks will return to Millennium Arch between 5PM and 5:30PM. Enjoy the entertainment\, pig roast and a drink from Village Vineyards bar. \nThe walk is free to join in.  Accompanied children and dogs are welcome.
URL:https://www.barntgreenparishcouncil.gov.uk/event/annual-walking-festival
LOCATION:Millennium Park\, Hewell Road\, Birmingham\, B45 8NW\, United Kingdom
END:VEVENT
BEGIN:VEVENT
DTSTART;TZID=UTC:20170923T130000
DTEND;TZID=UTC:20170923T183000
DTSTAMP:20260420T040349
CREATED:20170920T074116Z
LAST-MODIFIED:20170920T074116Z
UID:3145-1506171600-1506191400@www.barntgreenparishcouncil.gov.uk
SUMMARY:Annual Community Walk
DESCRIPTION:Three walks to choose from all start and end at Millennium Park. \nWalk 1: Tardebigge 8.5 miles: meet 1pm for start 1.30pm \nWalk 2: Apes Dale 5 miles: meet 2pm for start 2.30pm \nWalk 3: Pinfield Woods 3 miles: meet 3pm for start 3.30pm \nCome back to enjoy pig roast\, drinks and live music!
URL:https://www.barntgreenparishcouncil.gov.uk/event/annual-community-walk
LOCATION:Millennium Park\, Hewell Road\, Birmingham\, B45 8NW\, United Kingdom
END:VEVENT
BEGIN:VEVENT
DTSTART;TZID=UTC:20170919T190000
DTEND;TZID=UTC:20170919T210000
DTSTAMP:20260420T040349
CREATED:20170920T074249Z
LAST-MODIFIED:20170920T074249Z
UID:3147-1505847600-1505854800@www.barntgreenparishcouncil.gov.uk
SUMMARY:Parish Council Meeting
DESCRIPTION:Monthly meeting of Barnt Green Parish Council. \nOpen to members of the public
URL:https://www.barntgreenparishcouncil.gov.uk/event/parish-council-meeting-2
LOCATION:Barnt Green First School\, First School\, Hewell Road\, Barnt Green\, B45 8NG\, United Kingdom
END:VEVENT
BEGIN:VEVENT
DTSTART;TZID=UTC:20170821T190000
DTEND;TZID=UTC:20170821T190000
DTSTAMP:20260420T040349
CREATED:20170728T093646Z
LAST-MODIFIED:20170728T094021Z
UID:2862-1503342000-1503342000@www.barntgreenparishcouncil.gov.uk
SUMMARY:Parish Council meeting
DESCRIPTION:All meetings of the parish council are open to members of the public and there is an opportunity for members of the public to speak if required.  The agenda for the meeting will be posted to this website and to the parish council notice board at least three days before the date of the meeting.  Council meetings will usually end before 9.30pm.
URL:https://www.barntgreenparishcouncil.gov.uk/event/parish-council-meeting
LOCATION:Barnt Green First School\, First School\, Hewell Road\, Barnt Green\, B45 8NG\, United Kingdom
END:VEVENT
BEGIN:VEVENT
DTSTART;TZID=UTC:20170812T120000
DTEND;TZID=UTC:20170812T190000
DTSTAMP:20260420T040349
CREATED:20170728T093339Z
LAST-MODIFIED:20170728T093339Z
UID:2858-1502539200-1502564400@www.barntgreenparishcouncil.gov.uk
SUMMARY:Busking Festival
DESCRIPTION:
URL:https://www.barntgreenparishcouncil.gov.uk/event/busking-festival
LOCATION:Barnt Green Village\, Hewell Road\, B45 8NE\, United Kingdom
END:VEVENT
BEGIN:VEVENT
DTSTART;TZID=UTC:20170807T190000
DTEND;TZID=UTC:20170807T190000
DTSTAMP:20260420T040349
CREATED:20170731T122905Z
LAST-MODIFIED:20170731T122905Z
UID:2881-1502132400-1502132400@www.barntgreenparishcouncil.gov.uk
SUMMARY:Planning Committee meeting
DESCRIPTION:Meeting of BGPC Planning Committee \nlog 074: 17/00537: 11 Blackwell Road: Proposed extensions and improvements to an existing dwelling \nlog 075: 17/00826: 3 Sandhills Road: Proposed pitched roof over existing flat roofed single garage \nlog 076: 17/00631: land adjacent to Gaunts Cottage\, Sandhills Green: Redevelopment of garage and replacement with single infill dwelling house \nlog 077: 17/00825: 51 Orchard Croft: Two storey side extension incorporating single storey elements at front and rear.
URL:https://www.barntgreenparishcouncil.gov.uk/event/planning-committee-meeting
LOCATION:Barnt Green First School\, First School\, Hewell Road\, Barnt Green\, B45 8NG\, United Kingdom
END:VEVENT
BEGIN:VEVENT
DTSTART;TZID=Europe/London:20260420T040349
DTEND;TZID=Europe/London:20260420T040349
DTSTAMP:20260420T040349
CREATED:20240528T122544Z
LAST-MODIFIED:20240528T122544Z
UID:7464-0-0@www.barntgreenparishcouncil.gov.uk
SUMMARY:Parish Council Meeting
DESCRIPTION:PARISH COUNCIL MEETINGS ARE HELD ON THE THIRD MONDAY EVERY MONTH. THE COUNCIL HOLD MEETINGS IN LARGER VENUES DEPENDENT ON AVAILABILTY. PLEASE REFER TO THE AGENDA PUBLISHED TO BE ADVISED OF LOCATION AS THESE MAY CHANGE FROM MEETING TO MEETING.
URL:https://www.barntgreenparishcouncil.gov.uk/event/parish-council-meeting-36
LOCATION:Parish Council Office\, 80 Hewell Road\, Barnt Green\, B45 8NF\, United Kingdom
CATEGORIES:Parish Council Meetings
END:VEVENT
BEGIN:VEVENT
DTSTART;TZID=Europe/London:20260420T040349
DTEND;TZID=Europe/London:20260420T040349
DTSTAMP:20260420T040349
CREATED:20230123T130337Z
LAST-MODIFIED:20230123T130337Z
UID:6205-0-0@www.barntgreenparishcouncil.gov.uk
SUMMARY:Extraordinary Parish Council Meeting
DESCRIPTION:This meeting has been called to discuss the energy supply for street lighting contract.  Once agreed the budget and precept for 2023/24 can be approved.
URL:https://www.barntgreenparishcouncil.gov.uk/event/extraordinary-parish-council-meeting-3
LOCATION:Parish Council Office\, 80 Hewell Road\, Barnt Green\, B45 8NF\, United Kingdom
CATEGORIES:Parish Council Meetings
END:VEVENT
BEGIN:VEVENT
DTSTART;TZID=UTC:20260420T040349
DTEND;TZID=UTC:20260420T040349
DTSTAMP:20260420T040349
CREATED:20220329T090126Z
LAST-MODIFIED:20220329T090126Z
UID:5500-0-0@www.barntgreenparishcouncil.gov.uk
SUMMARY:Annual Parish Council Meeting
DESCRIPTION:PARISH COUNCIL MEETINGS ARE HELD ON THE THIRD MONDAY EVERY MONTH. THE COUNCIL HOLD MEETINGS IN LARGER VENUES DEPENDENT ON AVAILABILTY. PLEASE REFER TO THE AGENDA PUBLISHED TO BE ADVISED OF LOCATION AS THESE MAY CHANGE FROM MEETING TO MEETING.
URL:https://www.barntgreenparishcouncil.gov.uk/event/annual-parish-council-meeting-2
END:VEVENT
BEGIN:VEVENT
DTSTART;TZID=UTC:20260420T040349
DTEND;TZID=UTC:20260420T040349
DTSTAMP:20260420T040349
CREATED:20220329T085949Z
LAST-MODIFIED:20220329T085949Z
UID:5497-0-0@www.barntgreenparishcouncil.gov.uk
SUMMARY:Parish Council Meeting
DESCRIPTION:PARISH COUNCIL MEETINGS ARE HELD ON THE THIRD MONDAY EVERY MONTH. THE COUNCIL HOLD MEETINGS IN LARGER VENUES DEPENDENT ON AVAILABILTY. PLEASE REFER TO THE AGENDA PUBLISHED TO BE ADVISED OF LOCATION AS THESE MAY CHANGE FROM MEETING TO MEETING.
URL:https://www.barntgreenparishcouncil.gov.uk/event/parish-council-meeting-25
END:VEVENT
BEGIN:VEVENT
DTSTART;TZID=UTC:20260420T040349
DTEND;TZID=UTC:20260420T040349
DTSTAMP:20260420T040349
CREATED:20220329T085909Z
LAST-MODIFIED:20220329T085909Z
UID:5495-0-0@www.barntgreenparishcouncil.gov.uk
SUMMARY:Parish Council Meeting
DESCRIPTION:PARISH COUNCIL MEETINGS ARE HELD ON THE THIRD MONDAY EVERY MONTH. THE COUNCIL HOLD MEETINGS IN LARGER VENUES DEPENDENT ON AVAILABILTY. PLEASE REFER TO THE AGENDA PUBLISHED TO BE ADVISED OF LOCATION AS THESE MAY CHANGE FROM MEETING TO MEETING.
URL:https://www.barntgreenparishcouncil.gov.uk/event/parish-council-meeting-24
END:VEVENT
BEGIN:VEVENT
DTSTART;TZID=UTC:20260420T040349
DTEND;TZID=UTC:20260420T040349
DTSTAMP:20260420T040349
CREATED:20220329T085823Z
LAST-MODIFIED:20220329T085823Z
UID:5493-0-0@www.barntgreenparishcouncil.gov.uk
SUMMARY:Parish Council Meeting
DESCRIPTION:PARISH COUNCIL MEETINGS ARE HELD ON THE THIRD MONDAY EVERY MONTH. THE COUNCIL HOLD MEETINGS IN LARGER VENUES DEPENDENT ON AVAILABILTY. PLEASE REFER TO THE AGENDA PUBLISHED TO BE ADVISED OF LOCATION AS THESE MAY CHANGE FROM MEETING TO MEETING.
URL:https://www.barntgreenparishcouncil.gov.uk/event/parish-council-meeting-23
END:VEVENT
BEGIN:VEVENT
DTSTART;TZID=UTC:20260420T040349
DTEND;TZID=UTC:20260420T040349
DTSTAMP:20260420T040349
CREATED:20220329T085512Z
LAST-MODIFIED:20220329T085512Z
UID:5491-0-0@www.barntgreenparishcouncil.gov.uk
SUMMARY:Parish Council Meeting
DESCRIPTION:PARISH COUNCIL MEETINGS ARE HELD ON THE THIRD MONDAY EVERY MONTH. THE COUNCIL HOLD MEETINGS IN LARGER VENUES DEPENDENT ON AVAILABILTY. PLEASE REFER TO THE AGENDA PUBLISHED TO BE ADVISED OF LOCATION AS THESE MAY CHANGE FROM MEETING TO MEETING.
URL:https://www.barntgreenparishcouncil.gov.uk/event/parish-council-meeting-22
END:VEVENT
END:VCALENDAR