BEGIN:VCALENDAR
VERSION:2.0
PRODID:-//Barnt Green Parish Council - ECPv6.15.18//NONSGML v1.0//EN
CALSCALE:GREGORIAN
METHOD:PUBLISH
X-WR-CALNAME:Barnt Green Parish Council
X-ORIGINAL-URL:https://www.barntgreenparishcouncil.gov.uk
X-WR-CALDESC:Events for Barnt Green Parish Council
REFRESH-INTERVAL;VALUE=DURATION:PT1H
X-Robots-Tag:noindex
X-PUBLISHED-TTL:PT1H
BEGIN:VTIMEZONE
TZID:UTC
BEGIN:STANDARD
TZOFFSETFROM:+0000
TZOFFSETTO:+0000
TZNAME:UTC
DTSTART:20170101T000000
END:STANDARD
END:VTIMEZONE
BEGIN:VEVENT
DTSTART;TZID=UTC:20190818T133000
DTEND;TZID=UTC:20190818T173000
DTSTAMP:20260420T070935
CREATED:20190729T120751Z
LAST-MODIFIED:20190729T120751Z
UID:3790-1566135000-1566149400@www.barntgreenparishcouncil.gov.uk
SUMMARY:Garden Open
DESCRIPTION:
URL:https://www.barntgreenparishcouncil.gov.uk/event/garden-open
END:VEVENT
BEGIN:VEVENT
DTSTART;TZID=UTC:20190806T100000
DTEND;TZID=UTC:20190806T230000
DTSTAMP:20260420T070935
CREATED:20190730T093315Z
LAST-MODIFIED:20190730T093508Z
UID:3796-1565085600-1565132400@www.barntgreenparishcouncil.gov.uk
SUMMARY:Planning Committee Meeting
DESCRIPTION:Parish Council meetings will be held at Barnt Green Parish Council Office\, 80 Hewell Road\, B45 8NF unless otherwise stated. Members of the public are welcome to attend. Agendas will be posted to this website and to the parish council notice boards.
URL:https://www.barntgreenparishcouncil.gov.uk/event/planning-committee-meeting-3
LOCATION:Parish Council Office\, 80 Hewell Road\, Barnt Green\, B45 8NF\, United Kingdom
CATEGORIES:Parish Council Meetings
END:VEVENT
BEGIN:VEVENT
DTSTART;TZID=UTC:20190715T190000
DTEND;TZID=UTC:20190715T190000
DTSTAMP:20260420T070935
CREATED:20190603T115548Z
LAST-MODIFIED:20190603T115548Z
UID:3715-1563217200-1563217200@www.barntgreenparishcouncil.gov.uk
SUMMARY:Ordinary Parish Council
DESCRIPTION:Starting July 2018\, the parish council’s meetings will be held at Barnt Green Baptist Church Hall\, Bittell Road B45 8LU unless otherwise stated. Members of the public are welcome to attend. Agendas will be posted to this website and to the parish council’s notice boards.
URL:https://www.barntgreenparishcouncil.gov.uk/event/ordinary-parish-council-10
CATEGORIES:Parish Council Meetings
END:VEVENT
BEGIN:VEVENT
DTSTART;TZID=UTC:20190707T140000
DTEND;TZID=UTC:20190707T170000
DTSTAMP:20260420T070935
CREATED:20190603T123839Z
LAST-MODIFIED:20190603T123839Z
UID:3731-1562508000-1562518800@www.barntgreenparishcouncil.gov.uk
SUMMARY:Barnt Green Village Treasure Hunt - Sunday 7 July 2019
DESCRIPTION:Barnt Green Treasure Hunt – Sunday 7th July\, Millennium Park\, 2pm – 5pm \nCome and explore the village and solve clues as you go \nThere will be prizes for the winning treasure seekers. \nTwo trails – one for children and one for adults \nFollowed by food and music in Millennium Park
URL:https://www.barntgreenparishcouncil.gov.uk/event/barnt-green-village-treasure-hunt-sunday-7-july-2019
LOCATION:Millennium Park\, Hewell Road\, Birmingham\, B45 8NW\, United Kingdom
END:VEVENT
BEGIN:VEVENT
DTSTART;TZID=UTC:20190617T190000
DTEND;TZID=UTC:20190617T190000
DTSTAMP:20260420T070935
CREATED:20190603T115442Z
LAST-MODIFIED:20190603T115442Z
UID:3714-1560798000-1560798000@www.barntgreenparishcouncil.gov.uk
SUMMARY:Ordinary Parish Council
DESCRIPTION:Starting July 2018\, the parish council’s meetings will be held at Barnt Green Baptist Church Hall\, Bittell Road B45 8LU unless otherwise stated. Members of the public are welcome to attend. Agendas will be posted to this website and to the parish council’s notice boards.
URL:https://www.barntgreenparishcouncil.gov.uk/event/ordinary-parish-council-9
CATEGORIES:Parish Council Meetings
END:VEVENT
BEGIN:VEVENT
DTSTART;TZID=UTC:20190520T190000
DTEND;TZID=UTC:20190520T190000
DTSTAMP:20260420T070935
CREATED:20181025T082833Z
LAST-MODIFIED:20181025T082833Z
UID:3564-1558378800-1558378800@www.barntgreenparishcouncil.gov.uk
SUMMARY:Annual Meeting of the Parish Council
DESCRIPTION:Starting July 2018\, the parish council’s meetings will be held at Barnt Green Baptist Church Hall\, Bittell Road B45 8LU unless otherwise stated. Members of the public are welcome to attend. Agendas will be posted to this website and to the parish council’s notice boards.
URL:https://www.barntgreenparishcouncil.gov.uk/event/annual-meeting-of-the-parish-council
LOCATION:Barnt Green Baptist Church\, Bittell Road\, Barnt Green\, Birmingham\, B45 8LU\, United Kingdom
CATEGORIES:Parish Council Meetings
END:VEVENT
BEGIN:VEVENT
DTSTART;TZID=UTC:20190415T190000
DTEND;TZID=UTC:20190415T190000
DTSTAMP:20260420T070935
CREATED:20181025T082642Z
LAST-MODIFIED:20181025T082642Z
UID:3562-1555354800-1555354800@www.barntgreenparishcouncil.gov.uk
SUMMARY:Ordinary Parish Council
DESCRIPTION:Starting July 2018\, the parish council’s meetings will be held at Barnt Green Baptist Church Hall\, Bittell Road B45 8LU unless otherwise stated. Members of the public are welcome to attend. Agendas will be posted to this website and to the parish council’s notice boards.
URL:https://www.barntgreenparishcouncil.gov.uk/event/ordinary-parish-council-7
LOCATION:Barnt Green Baptist Church\, Bittell Road\, Barnt Green\, Birmingham\, B45 8LU\, United Kingdom
CATEGORIES:Parish Council Meetings
END:VEVENT
BEGIN:VEVENT
DTSTART;TZID=UTC:20190218T190000
DTEND;TZID=UTC:20190218T190000
DTSTAMP:20260420T070935
CREATED:20181025T082239Z
LAST-MODIFIED:20181025T082239Z
UID:3559-1550516400-1550516400@www.barntgreenparishcouncil.gov.uk
SUMMARY:Ordinary Parish Council
DESCRIPTION:Starting July 2018\, the parish council’s meetings will be held at Barnt Green Baptist Church Hall\, Bittell Road B45 8LU unless otherwise stated. Members of the public are welcome to attend. Agendas will be posted to this website and to the parish council’s notice boards.
URL:https://www.barntgreenparishcouncil.gov.uk/event/ordinary-parish-council-6
LOCATION:Barnt Green Baptist Church\, Bittell Road\, Barnt Green\, Birmingham\, B45 8LU\, United Kingdom
CATEGORIES:Parish Council Meetings
END:VEVENT
BEGIN:VEVENT
DTSTART;TZID=UTC:20190121T190000
DTEND;TZID=UTC:20190121T210000
DTSTAMP:20260420T070935
CREATED:20181025T081801Z
LAST-MODIFIED:20181025T082117Z
UID:3555-1548097200-1548104400@www.barntgreenparishcouncil.gov.uk
SUMMARY:Ordinary Parish Council
DESCRIPTION:Starting July 2018\, the parish council’s meetings will be held at Barnt Green Baptist Church Hall\, Bittell Road B45 8LU unless otherwise stated. Members of the public are welcome to attend. Agendas will be posted to this website and to the parish council’s notice boards.
URL:https://www.barntgreenparishcouncil.gov.uk/event/ordinary-parish-council-5
LOCATION:Barnt Green Baptist Church\, Bittell Road\, Barnt Green\, Birmingham\, B45 8LU\, United Kingdom
CATEGORIES:Parish Council Meetings
END:VEVENT
BEGIN:VEVENT
DTSTART;TZID=UTC:20181201T153000
DTEND;TZID=UTC:20181201T173000
DTSTAMP:20260420T070935
CREATED:20180326T120308Z
LAST-MODIFIED:20180326T120308Z
UID:3321-1543678200-1543685400@www.barntgreenparishcouncil.gov.uk
SUMMARY:Christmas Lights Switch-On
DESCRIPTION:Come and enjoy the season’s festivities!
URL:https://www.barntgreenparishcouncil.gov.uk/event/christmas-lights-switch-on-2
LOCATION:Millennium Park\, Hewell Road\, Birmingham\, B45 8NW\, United Kingdom
END:VEVENT
BEGIN:VEVENT
DTSTART;TZID=UTC:20181119T190000
DTEND;TZID=UTC:20181119T213000
DTSTAMP:20260420T070935
CREATED:20170920T074825Z
LAST-MODIFIED:20170920T074825Z
UID:3165-1542654000-1542663000@www.barntgreenparishcouncil.gov.uk
SUMMARY:Parish Council meeting
DESCRIPTION:Monthly meeting of Barnt Green Parish Council \nOpen to members of the public.
URL:https://www.barntgreenparishcouncil.gov.uk/event/parish-council-meeting-6-2018-11-19
LOCATION:Barnt Green First School\, First School\, Hewell Road\, Barnt Green\, B45 8NG\, United Kingdom
END:VEVENT
BEGIN:VEVENT
DTSTART;TZID=UTC:20181119T190000
DTEND;TZID=UTC:20181119T190000
DTSTAMP:20260420T070935
CREATED:20181116T074311Z
LAST-MODIFIED:20181116T074311Z
UID:3592-1542654000-1542654000@www.barntgreenparishcouncil.gov.uk
SUMMARY:Ordinary Parish Council
DESCRIPTION:This parish council meeting will be held at Barnt Green Baptist Church\, Bittell Road\, B45 8LU
URL:https://www.barntgreenparishcouncil.gov.uk/event/ordinary-parish-council-8
LOCATION:Barnt Green Baptist Church\, Bittell Road\, Barnt Green\, Birmingham\, B45 8LU\, United Kingdom
CATEGORIES:Parish Council Meetings
END:VEVENT
BEGIN:VEVENT
DTSTART;TZID=UTC:20181015T190000
DTEND;TZID=UTC:20181015T213000
DTSTAMP:20260420T070935
CREATED:20170920T074825Z
LAST-MODIFIED:20180326T120014Z
UID:3164-1539630000-1539639000@www.barntgreenparishcouncil.gov.uk
SUMMARY:Parish Council meeting
DESCRIPTION:Monthly meeting of Barnt Green Parish Council \nOpen to members of the public.
URL:https://www.barntgreenparishcouncil.gov.uk/event/parish-council-meeting-6-2018-10-19
LOCATION:Barnt Green First School\, First School\, Hewell Road\, Barnt Green\, B45 8NG\, United Kingdom
END:VEVENT
BEGIN:VEVENT
DTSTART;TZID=UTC:20181015T190000
DTEND;TZID=UTC:20181015T190000
DTSTAMP:20260420T070935
CREATED:20181010T074151Z
LAST-MODIFIED:20181010T074151Z
UID:3541-1539630000-1539630000@www.barntgreenparishcouncil.gov.uk
SUMMARY:Ordinary Parish Council
DESCRIPTION:This parish council meeting will be held at Barnt Green Baptist Church\, Bittell Road\, B45 8LX
URL:https://www.barntgreenparishcouncil.gov.uk/event/ordinary-parish-council-4
CATEGORIES:Parish Council Meetings
END:VEVENT
BEGIN:VEVENT
DTSTART;TZID=UTC:20180922T133000
DTEND;TZID=UTC:20180922T183000
DTSTAMP:20260420T070935
CREATED:20180205T154816Z
LAST-MODIFIED:20180205T154816Z
UID:3271-1537623000-1537641000@www.barntgreenparishcouncil.gov.uk
SUMMARY:Annual Community Walk
DESCRIPTION:Three different circular routes to choose of varying lengths\, starting from Millennium Park in Barnt Green village centre and returning for a barbeque and late summer al fresco celebration to 6.30pm.  There is no charge to take part in the walks. More information nearer the date.
URL:https://www.barntgreenparishcouncil.gov.uk/event/annual-community-walk-2
LOCATION:Millennium Park\, Hewell Road\, Birmingham\, B45 8NW\, United Kingdom
END:VEVENT
BEGIN:VEVENT
DTSTART;TZID=UTC:20180917T190000
DTEND;TZID=UTC:20180917T213000
DTSTAMP:20260420T070935
CREATED:20170920T074825Z
LAST-MODIFIED:20180326T115941Z
UID:3163-1537210800-1537219800@www.barntgreenparishcouncil.gov.uk
SUMMARY:Parish Council meeting
DESCRIPTION:Monthly meeting of Barnt Green Parish Council \nOpen to members of the public.
URL:https://www.barntgreenparishcouncil.gov.uk/event/parish-council-meeting-6-2018-09-19
LOCATION:Barnt Green First School\, First School\, Hewell Road\, Barnt Green\, B45 8NG\, United Kingdom
END:VEVENT
BEGIN:VEVENT
DTSTART;TZID=UTC:20180828T190000
DTEND;TZID=UTC:20180828T190000
DTSTAMP:20260420T070935
CREATED:20180802T130833Z
LAST-MODIFIED:20180802T130833Z
UID:3486-1535482800-1535482800@www.barntgreenparishcouncil.gov.uk
SUMMARY:Ordinary Parish Council
DESCRIPTION:PLEASE NOTE CHANGE OF DAY AND DATE\nThis ordinary parish council meeting will be held at Barnt Green Baptist Church\, Bittell Road\, B45 8LU.
URL:https://www.barntgreenparishcouncil.gov.uk/event/ordinary-parish-council-3
CATEGORIES:Parish Council Meetings
END:VEVENT
BEGIN:VEVENT
DTSTART;TZID=UTC:20180816T000000
DTEND;TZID=UTC:20180816T000000
DTSTAMP:20260420T070935
CREATED:20180619T140554Z
LAST-MODIFIED:20180806T202448Z
UID:3443-1534377600-1534377600@www.barntgreenparishcouncil.gov.uk
SUMMARY:Planning Committee
DESCRIPTION:Meeting of the Planning Committee to consider recent planning consultations and Neighbourhood Plans.
URL:https://www.barntgreenparishcouncil.gov.uk/event/planning-committee-2
LOCATION:Parish Council Office\, 80 Hewell Road\, Barnt Green\, B45 8NF\, United Kingdom
CATEGORIES:Parish Council Meetings
END:VEVENT
BEGIN:VEVENT
DTSTART;TZID=UTC:20180716T190000
DTEND;TZID=UTC:20180716T213000
DTSTAMP:20260420T070936
CREATED:20170920T074825Z
LAST-MODIFIED:20180326T115822Z
UID:3161-1531767600-1531776600@www.barntgreenparishcouncil.gov.uk
SUMMARY:Parish Council meeting
DESCRIPTION:Monthly meeting of Barnt Green Parish Council \nOpen to members of the public.
URL:https://www.barntgreenparishcouncil.gov.uk/event/parish-council-meeting-6-2018-07-19
LOCATION:Barnt Green First School\, First School\, Hewell Road\, Barnt Green\, B45 8NG\, United Kingdom
END:VEVENT
BEGIN:VEVENT
DTSTART;TZID=UTC:20180716T190000
DTEND;TZID=UTC:20180716T190000
DTSTAMP:20260420T070936
CREATED:20180531T135302Z
LAST-MODIFIED:20180531T135302Z
UID:3412-1531767600-1531767600@www.barntgreenparishcouncil.gov.uk
SUMMARY:Ordinary Parish Council
DESCRIPTION:This parish council meeting will be held at Barnt Green Baptist Church\, Bittell Road\, B45 8LU
URL:https://www.barntgreenparishcouncil.gov.uk/event/ordinary-parish-council-2
CATEGORIES:Parish Council Meetings
END:VEVENT
BEGIN:VEVENT
DTSTART;TZID=UTC:20180618T190000
DTEND;TZID=UTC:20180618T213000
DTSTAMP:20260420T070936
CREATED:20170920T074825Z
LAST-MODIFIED:20180326T115741Z
UID:3160-1529348400-1529357400@www.barntgreenparishcouncil.gov.uk
SUMMARY:Parish Council meeting
DESCRIPTION:Monthly meeting of Barnt Green Parish Council \nOpen to members of the public.
URL:https://www.barntgreenparishcouncil.gov.uk/event/parish-council-meeting-6-2018-06-19
LOCATION:Barnt Green First School\, First School\, Hewell Road\, Barnt Green\, B45 8NG\, United Kingdom
END:VEVENT
BEGIN:VEVENT
DTSTART;TZID=UTC:20180618T190000
DTEND;TZID=UTC:20180618T190000
DTSTAMP:20260420T070936
CREATED:20180531T134751Z
LAST-MODIFIED:20180531T134751Z
UID:3410-1529348400-1529348400@www.barntgreenparishcouncil.gov.uk
SUMMARY:Ordinary Parish Council
DESCRIPTION:This meeting will be held at St Andrews First School\, Hewell Road\, Barnt Green B45 8NG
URL:https://www.barntgreenparishcouncil.gov.uk/event/ordinary-parish-council
LOCATION:Barnt Green First School\, First School\, Hewell Road\, Barnt Green\, B45 8NG\, United Kingdom
CATEGORIES:Parish Council Meetings
END:VEVENT
BEGIN:VEVENT
DTSTART;TZID=UTC:20180521T190000
DTEND;TZID=UTC:20180521T213000
DTSTAMP:20260420T070936
CREATED:20170920T074825Z
LAST-MODIFIED:20180326T115707Z
UID:3159-1526929200-1526938200@www.barntgreenparishcouncil.gov.uk
SUMMARY:Parish Council meeting
DESCRIPTION:Monthly meeting of Barnt Green Parish Council \nOpen to members of the public.
URL:https://www.barntgreenparishcouncil.gov.uk/event/parish-council-meeting-6-2018-05-19
LOCATION:Barnt Green First School\, First School\, Hewell Road\, Barnt Green\, B45 8NG\, United Kingdom
END:VEVENT
BEGIN:VEVENT
DTSTART;TZID=UTC:20180501T190000
DTEND;TZID=UTC:20180501T190000
DTSTAMP:20260420T070936
CREATED:20180424T144851Z
LAST-MODIFIED:20180424T144851Z
UID:3374-1525201200-1525201200@www.barntgreenparishcouncil.gov.uk
SUMMARY:Planning Committee\, at 80 Hewell Road
DESCRIPTION:From January 2018\, the parish council’s meetings will be held at St Andrews C of E First School\, Hewell Road B45 8NG unless otherwise stated. Members of the public are welcome to attend. Agendas will be posted to this website and to the parish council’s notice boards.
URL:https://www.barntgreenparishcouncil.gov.uk/event/planning-committee-at-80-hewell-road
LOCATION:Parish Council Office\, 80 Hewell Road\, Barnt Green\, B45 8NF\, United Kingdom
CATEGORIES:Parish Council Meetings
END:VEVENT
BEGIN:VEVENT
DTSTART;TZID=UTC:20180426T190000
DTEND;TZID=UTC:20180426T210000
DTSTAMP:20260420T070936
CREATED:20180326T120819Z
LAST-MODIFIED:20180326T120819Z
UID:3323-1524769200-1524776400@www.barntgreenparishcouncil.gov.uk
SUMMARY:Annual Parish Meeting - Your Meeting!
DESCRIPTION:Residents’ opportunity to talk about parish affairs. \nTopics likely to include new footpath lighting\, station lifts\, environmental matters\, outdoor gym equipment.  What’s on your mind?
URL:https://www.barntgreenparishcouncil.gov.uk/event/annual-parish-meeting-your-meeting
LOCATION:Quakers Meeting House\, Sandhills Road\, Barnt Green\, B45 8NR\, United Kingdom
END:VEVENT
BEGIN:VEVENT
DTSTART;TZID=UTC:20180416T190000
DTEND;TZID=UTC:20180416T213000
DTSTAMP:20260420T070936
CREATED:20170920T074825Z
LAST-MODIFIED:20180326T115605Z
UID:3158-1523905200-1523914200@www.barntgreenparishcouncil.gov.uk
SUMMARY:Parish Council meeting
DESCRIPTION:Monthly meeting of Barnt Green Parish Council \nOpen to members of the public.
URL:https://www.barntgreenparishcouncil.gov.uk/event/parish-council-meeting-6-2018-04-19
LOCATION:Barnt Green First School\, First School\, Hewell Road\, Barnt Green\, B45 8NG\, United Kingdom
END:VEVENT
BEGIN:VEVENT
DTSTART;TZID=UTC:20180319T190000
DTEND;TZID=UTC:20180319T213000
DTSTAMP:20260420T070936
CREATED:20170920T074825Z
LAST-MODIFIED:20170920T074825Z
UID:3157-1521486000-1521495000@www.barntgreenparishcouncil.gov.uk
SUMMARY:Parish Council meeting
DESCRIPTION:Monthly meeting of Barnt Green Parish Council \nOpen to members of the public.
URL:https://www.barntgreenparishcouncil.gov.uk/event/parish-council-meeting-6-2018-03-19
LOCATION:Barnt Green First School\, First School\, Hewell Road\, Barnt Green\, B45 8NG\, United Kingdom
END:VEVENT
BEGIN:VEVENT
DTSTART;VALUE=DATE:20180318
DTEND;VALUE=DATE:20180319
DTSTAMP:20260420T070936
CREATED:20180205T155102Z
LAST-MODIFIED:20180205T155102Z
UID:3273-1521331200-1521417599@www.barntgreenparishcouncil.gov.uk
SUMMARY:Annual Fun Run
DESCRIPTION:Join in with this year’s Sport Relief Billion Steps Challenge and take part in the Barnt Green Chuggers Fun Run around the village.
URL:https://www.barntgreenparishcouncil.gov.uk/event/annual-fun-run
LOCATION:Millennium Park\, Hewell Road\, Birmingham\, B45 8NW\, United Kingdom
END:VEVENT
BEGIN:VEVENT
DTSTART;TZID=UTC:20180308T180000
DTEND;TZID=UTC:20180308T180000
DTSTAMP:20260420T070936
CREATED:20180228T124522Z
LAST-MODIFIED:20180228T124522Z
UID:3296-1520532000-1520532000@www.barntgreenparishcouncil.gov.uk
SUMMARY:Planning Committee
DESCRIPTION:From January 2018\, the parish council’s meetings will be held at St Andrews C of E First School\, Hewell Road B45 8NG unless otherwise stated. Members of the public are welcome to attend. Agendas will be posted to this website and to the parish council’s notice boards.
URL:https://www.barntgreenparishcouncil.gov.uk/event/planning-committee
LOCATION:Parish Council Office\, 80 Hewell Road\, Barnt Green\, B45 8NF\, United Kingdom
CATEGORIES:Parish Council Meetings
END:VEVENT
BEGIN:VEVENT
DTSTART;TZID=UTC:20180219T190000
DTEND;TZID=UTC:20180219T213000
DTSTAMP:20260420T070936
CREATED:20170920T074825Z
LAST-MODIFIED:20170920T074825Z
UID:3155-1519066800-1519075800@www.barntgreenparishcouncil.gov.uk
SUMMARY:Parish Council meeting
DESCRIPTION:Monthly meeting of Barnt Green Parish Council \nOpen to members of the public.
URL:https://www.barntgreenparishcouncil.gov.uk/event/parish-council-meeting-6
LOCATION:Barnt Green First School\, First School\, Hewell Road\, Barnt Green\, B45 8NG\, United Kingdom
END:VEVENT
END:VCALENDAR