BEGIN:VCALENDAR
VERSION:2.0
PRODID:-//Barnt Green Parish Council - ECPv6.15.18//NONSGML v1.0//EN
CALSCALE:GREGORIAN
METHOD:PUBLISH
X-ORIGINAL-URL:https://www.barntgreenparishcouncil.gov.uk
X-WR-CALDESC:Events for Barnt Green Parish Council
REFRESH-INTERVAL;VALUE=DURATION:PT1H
X-Robots-Tag:noindex
X-PUBLISHED-TTL:PT1H
BEGIN:VTIMEZONE
TZID:Europe/London
BEGIN:DAYLIGHT
TZOFFSETFROM:+0000
TZOFFSETTO:+0100
TZNAME:BST
DTSTART:20230326T010000
END:DAYLIGHT
BEGIN:STANDARD
TZOFFSETFROM:+0100
TZOFFSETTO:+0000
TZNAME:GMT
DTSTART:20231029T010000
END:STANDARD
BEGIN:DAYLIGHT
TZOFFSETFROM:+0000
TZOFFSETTO:+0100
TZNAME:BST
DTSTART:20240331T010000
END:DAYLIGHT
BEGIN:STANDARD
TZOFFSETFROM:+0100
TZOFFSETTO:+0000
TZNAME:GMT
DTSTART:20241027T010000
END:STANDARD
BEGIN:DAYLIGHT
TZOFFSETFROM:+0000
TZOFFSETTO:+0100
TZNAME:BST
DTSTART:20250330T010000
END:DAYLIGHT
BEGIN:STANDARD
TZOFFSETFROM:+0100
TZOFFSETTO:+0000
TZNAME:GMT
DTSTART:20251026T010000
END:STANDARD
BEGIN:DAYLIGHT
TZOFFSETFROM:+0000
TZOFFSETTO:+0100
TZNAME:BST
DTSTART:20260329T010000
END:DAYLIGHT
BEGIN:STANDARD
TZOFFSETFROM:+0100
TZOFFSETTO:+0000
TZNAME:GMT
DTSTART:20261025T010000
END:STANDARD
BEGIN:DAYLIGHT
TZOFFSETFROM:+0000
TZOFFSETTO:+0100
TZNAME:BST
DTSTART:20270328T010000
END:DAYLIGHT
BEGIN:STANDARD
TZOFFSETFROM:+0100
TZOFFSETTO:+0000
TZNAME:GMT
DTSTART:20271031T010000
END:STANDARD
END:VTIMEZONE
BEGIN:VEVENT
DTSTART;TZID=Europe/London:20241130T153000
DTEND;TZID=Europe/London:20241130T190000
DTSTAMP:20260420T184826
CREATED:20240924T091401Z
LAST-MODIFIED:20241126T120449Z
UID:7773-1732980600-1732993200@www.barntgreenparishcouncil.gov.uk
SUMMARY:Barnt Green Christmas Lights Switch On Event Saturday 30th November 2024 3.30pm -7pm
DESCRIPTION:
URL:https://www.barntgreenparishcouncil.gov.uk/event/barnt-green-christmas-lights-switch-on-event-saturday-30th-november-2024-3-30pm-5pm
LOCATION:Millennium Park\, Hewell Road\, Birmingham\, B45 8NW\, United Kingdom
END:VEVENT
BEGIN:VEVENT
DTSTART;TZID=Europe/London:20241216T190000
DTEND;TZID=Europe/London:20241216T210000
DTSTAMP:20260420T184826
CREATED:20241204T113757Z
LAST-MODIFIED:20241204T113757Z
UID:7951-1734375600-1734382800@www.barntgreenparishcouncil.gov.uk
SUMMARY:Barnt Green Station Lift Update with Network Rail Monday 16th December 2024 Barnt Green Baptist Church\, Bittell Road 7-9pm
DESCRIPTION:
URL:https://www.barntgreenparishcouncil.gov.uk/event/barnt-green-station-lift-update-with-network-rail-monday-16th-december-2024-barnt-green-baptist-church-bittell-road-7-9pm
LOCATION:Barnt Green Baptist Church\, Bittell Road\, Barnt Green\, Birmingham\, B45 8LU\, United Kingdom
END:VEVENT
BEGIN:VEVENT
DTSTART;TZID=Europe/London:20241227T144500
DTEND;TZID=Europe/London:20241227T153000
DTSTAMP:20260420T184826
CREATED:20241205T090353Z
LAST-MODIFIED:20241205T090353Z
UID:7960-1735310700-1735313400@www.barntgreenparishcouncil.gov.uk
SUMMARY:Barnt Green Wassail Walk Friday 27/12/24 Meet in Millennium Park 2.45pm for 5 mile walk\, 3.30pm for 3.5 mile walk ALL WELCOME!
DESCRIPTION:
URL:https://www.barntgreenparishcouncil.gov.uk/event/barnt-green-wassail-walk-friday-27-12-24-meet-in-millennium-park-2-45pm-for-5-mile-walk-3-30pm-for-3-5-mile-walk-all-welcome
LOCATION:Millennium Park\, Hewell Road\, Birmingham\, B45 8NW\, United Kingdom
END:VEVENT
BEGIN:VEVENT
DTSTART;TZID=Europe/London:20250616T190000
DTEND;TZID=Europe/London:20250616T210000
DTSTAMP:20260420T184826
CREATED:20250521T111036Z
LAST-MODIFIED:20250521T111305Z
UID:8329-1750100400-1750107600@www.barntgreenparishcouncil.gov.uk
SUMMARY:Parish Council Meeting
DESCRIPTION:
URL:https://www.barntgreenparishcouncil.gov.uk/event/parish-council-meeting-38
LOCATION:Parish Council Office\, 80 Hewell Road\, Barnt Green\, B45 8NF\, United Kingdom
CATEGORIES:Parish Council Meetings
END:VEVENT
BEGIN:VEVENT
DTSTART;TZID=Europe/London:20251129T153000
DTEND;TZID=Europe/London:20251129T183000
DTSTAMP:20260420T184826
CREATED:20251001T073902Z
LAST-MODIFIED:20251001T083054Z
UID:8620-1764430200-1764441000@www.barntgreenparishcouncil.gov.uk
SUMMARY:Barnt Green Xmas Lights Switch On Millennium Park
DESCRIPTION:
URL:https://www.barntgreenparishcouncil.gov.uk/event/barnt-green-xmas-lights-switch-on
LOCATION:Millennium Park\, Hewell Road\, Birmingham\, B45 8NW\, United Kingdom
END:VEVENT
BEGIN:VEVENT
DTSTART;TZID=Europe/London:20251229T144500
DTEND;TZID=Europe/London:20251229T170000
DTSTAMP:20260420T184826
CREATED:20251001T083311Z
LAST-MODIFIED:20251001T083311Z
UID:8625-1767019500-1767027600@www.barntgreenparishcouncil.gov.uk
SUMMARY:Wassail Walk
DESCRIPTION:
URL:https://www.barntgreenparishcouncil.gov.uk/event/wassail-walk
END:VEVENT
BEGIN:VEVENT
DTSTART;TZID=Europe/London:20261128T153000
DTEND;TZID=Europe/London:20261128T190000
DTSTAMP:20260420T184826
CREATED:20260210T115546Z
LAST-MODIFIED:20260210T115546Z
UID:8903-1795879800-1795892400@www.barntgreenparishcouncil.gov.uk
SUMMARY:Barnt Green Parish Council Christmas Lights Switch On Saturday 28th November 2026
DESCRIPTION:
URL:https://www.barntgreenparishcouncil.gov.uk/event/barnt-green-parish-council-christmas-lights-switch-on-saturday-28th-november-2026
LOCATION:Millennium Park\, Hewell Road\, Birmingham\, B45 8NW\, United Kingdom
END:VEVENT
END:VCALENDAR