BEGIN:VCALENDAR
VERSION:2.0
PRODID:-//Barnt Green Parish Council - ECPv6.15.18//NONSGML v1.0//EN
CALSCALE:GREGORIAN
METHOD:PUBLISH
X-ORIGINAL-URL:https://www.barntgreenparishcouncil.gov.uk
X-WR-CALDESC:Events for Barnt Green Parish Council
REFRESH-INTERVAL;VALUE=DURATION:PT1H
X-Robots-Tag:noindex
X-PUBLISHED-TTL:PT1H
BEGIN:VTIMEZONE
TZID:Europe/London
BEGIN:DAYLIGHT
TZOFFSETFROM:+0000
TZOFFSETTO:+0100
TZNAME:BST
DTSTART:20220327T010000
END:DAYLIGHT
BEGIN:STANDARD
TZOFFSETFROM:+0100
TZOFFSETTO:+0000
TZNAME:GMT
DTSTART:20221030T010000
END:STANDARD
BEGIN:DAYLIGHT
TZOFFSETFROM:+0000
TZOFFSETTO:+0100
TZNAME:BST
DTSTART:20230326T010000
END:DAYLIGHT
BEGIN:STANDARD
TZOFFSETFROM:+0100
TZOFFSETTO:+0000
TZNAME:GMT
DTSTART:20231029T010000
END:STANDARD
BEGIN:DAYLIGHT
TZOFFSETFROM:+0000
TZOFFSETTO:+0100
TZNAME:BST
DTSTART:20240331T010000
END:DAYLIGHT
BEGIN:STANDARD
TZOFFSETFROM:+0100
TZOFFSETTO:+0000
TZNAME:GMT
DTSTART:20241027T010000
END:STANDARD
END:VTIMEZONE
BEGIN:VTIMEZONE
TZID:UTC
BEGIN:STANDARD
TZOFFSETFROM:+0000
TZOFFSETTO:+0000
TZNAME:UTC
DTSTART:20220101T000000
END:STANDARD
END:VTIMEZONE
BEGIN:VEVENT
DTSTART;TZID=Europe/London:20231228T144500
DTEND;TZID=Europe/London:20231228T170000
DTSTAMP:20260423T085413
CREATED:20231220T130919Z
LAST-MODIFIED:20231220T131342Z
UID:7047-1703774700-1703782800@www.barntgreenparishcouncil.gov.uk
SUMMARY:BARNT GREEN WASSAIL WALK THURSDAY 28TH DECEMBER 2023
DESCRIPTION:Wassail Banner 28.12.23
URL:https://www.barntgreenparishcouncil.gov.uk/event/barnt-green-wassail-walk-thursday-28th-december-2023
END:VEVENT
BEGIN:VEVENT
DTSTART;TZID=UTC:20231228T150000
DTEND;TZID=UTC:20231228T150000
DTSTAMP:20260423T085413
CREATED:20231017T115956Z
LAST-MODIFIED:20231017T120426Z
UID:6839-1703775600-1703775600@www.barntgreenparishcouncil.gov.uk
SUMMARY:Wassail Walk 28th December 2023 Millennium Park 3pm
DESCRIPTION:Wassail Walk 28th December 2023 Millennium Park 3pm
URL:https://www.barntgreenparishcouncil.gov.uk/event/wassail-walk-28th-december-2023
LOCATION:Millennium Park\, Hewell Road\, Birmingham\, B45 8NW\, United Kingdom
END:VEVENT
END:VCALENDAR