BEGIN:VCALENDAR
VERSION:2.0
PRODID:-//Barnt Green Parish Council - ECPv6.15.18//NONSGML v1.0//EN
CALSCALE:GREGORIAN
METHOD:PUBLISH
X-ORIGINAL-URL:https://www.barntgreenparishcouncil.gov.uk
X-WR-CALDESC:Events for Barnt Green Parish Council
REFRESH-INTERVAL;VALUE=DURATION:PT1H
X-Robots-Tag:noindex
X-PUBLISHED-TTL:PT1H
BEGIN:VTIMEZONE
TZID:UTC
BEGIN:STANDARD
TZOFFSETFROM:+0000
TZOFFSETTO:+0000
TZNAME:UTC
DTSTART:20220101T000000
END:STANDARD
END:VTIMEZONE
BEGIN:VEVENT
DTSTART;TZID=UTC:20231202T153000
DTEND;TZID=UTC:20231202T170000
DTSTAMP:20260423T085301
CREATED:20231017T115835Z
LAST-MODIFIED:20231017T120119Z
UID:6836-1701531000-1701536400@www.barntgreenparishcouncil.gov.uk
SUMMARY:Barnt Green Xmas Lights Switch On 2nd December 2023 3.30pm - 5pm
DESCRIPTION:Barnt Green Xmas Lights Switch On 2nd December 2023 3.30pm – 5pm
URL:https://www.barntgreenparishcouncil.gov.uk/event/barnt-green-xmas-lights-switch-on-2nd-december-2023-3-30pm-5pm
LOCATION:Millennium Park\, Hewell Road\, Birmingham\, B45 8NW\, United Kingdom
END:VEVENT
BEGIN:VEVENT
DTSTART;TZID=UTC:20231202T193000
DTEND;TZID=UTC:20231202T193000
DTSTAMP:20260423T085301
CREATED:20231107T101242Z
LAST-MODIFIED:20231109T125146Z
UID:6912-1701545400-1701545400@www.barntgreenparishcouncil.gov.uk
SUMMARY:Blackwell Concert Band Xmas Concert Saturday 2nd December 7.30pm St Andrews Church\, Barnt Green\, B45 8NR
DESCRIPTION:https://www.barntgreenparishcouncil.gov.uk/wp-content/uploads/2023/11/7.11.23-Christmas-poster-to-sell-tickets-2023-pdf.pdf \n 
URL:https://www.barntgreenparishcouncil.gov.uk/event/blackwell-concert-band-xmas-concert-saturday-2nd-december-7-30pm-st-andrews-church-barnt-green-b45-8nr
LOCATION:Barnt Green First School\, First School\, Hewell Road\, Barnt Green\, B45 8NG\, United Kingdom
END:VEVENT
END:VCALENDAR